BEGIN:VCALENDAR
VERSION:2.0
PRODID:-//ChamberMaster//Event Calendar 2.0//EN
METHOD:PUBLISH
X-PUBLISHED-TTL:P3D
REFRESH-INTERVAL:P3D
CALSCALE:GREGORIAN
BEGIN:VEVENT
DTSTART;VALUE=DATE:20170819
DTEND;VALUE=DATE:20170821
TRANSP:TRANSPARENT
X-MICROSOFT-CDO-ALLDAYEVENT:TRUE
SUMMARY:Fame Jr.
DESCRIPTION:Get ready to rock when the pop culture phenomenon about the legendary New York High School of the Performing Arts hits the stage at the Ogunquit Playhouse. This high-energy show is based on the hit motion picture\, television series and stage show Fame. The inspiring story about a diverse group of students dedicated to artistic and academic work is filled with candor\, humor and insight\, combined with an electrifying pop score including the hit title song.
X-ALT-DESC;FMTTYPE=text/html:Get ready to rock when the pop culture phenomenon about the legendary New York High School of the Performing Arts hits the stage at the Ogunquit Playhouse. This high-energy show is based on the hit motion picture\, television series and stage show Fame. The inspiring story about a diverse group of students dedicated to artistic and academic work is filled with candor\, humor and insight\, combined with an electrifying pop score including the hit title song.
LOCATION:The Ogunquit Playhouse\, 10 Main Street (Rte 1)\, Ogunquit\, Maine
UID:e.1923.5888
SEQUENCE:3
DTSTAMP:20260426T035544Z
URL:https://chamber.gokennebunks.com/events/details/fame-jr-5888
END:VEVENT

END:VCALENDAR
