BEGIN:VCALENDAR
VERSION:2.0
PRODID:-//ChamberMaster//Event Calendar 2.0//EN
METHOD:PUBLISH
X-PUBLISHED-TTL:P3D
REFRESH-INTERVAL:P3D
CALSCALE:GREGORIAN
BEGIN:VEVENT
DTSTART:20240930T210000Z
DTEND:20240930T230000Z
X-MICROSOFT-CDO-ALLDAYEVENT:FALSE
SUMMARY:Fall into Winter Fashion Show
DESCRIPTION:The Center's Fall into Winter Annual Fashion show featuring local boutiques Dannah\, Dannah for Men\, J. McGlaughlin\, La La Luna and Showbox & Co.. Tickets are $35 and include hors d'oeuvres and swag bag. Tickets can be purchased in advance by calling 207-967-8514\, or on the Center's website: www.seniorcenterkennebunk.org.
X-ALT-DESC;FMTTYPE=text/html:The Center&#39\;s Fall into Winter Annual Fashion show featuring local boutiques Dannah\, Dannah for Men\, J. McGlaughlin\, La La Luna and Showbox &amp\; Co.. Tickets are $35 and include hors d&#39\;oeuvres and swag bag. Tickets can be purchased in advance by calling 207-967-8514\, or on the Center&#39\;s website: www.seniorcenterkennebunk.org.
LOCATION:Nonatum Resort 95 Ocean Avenue Kennebunkport\, Maine 04046
UID:e.1923.30956
SEQUENCE:3
DTSTAMP:20260421T100042Z
URL:https://chamber.gokennebunks.com/events/details/fall-into-winter-fashion-show-30956
END:VEVENT

END:VCALENDAR
