BEGIN:VCALENDAR
VERSION:2.0
PRODID:-//ChamberMaster//Event Calendar 2.0//EN
METHOD:PUBLISH
X-PUBLISHED-TTL:P3D
REFRESH-INTERVAL:P3D
CALSCALE:GREGORIAN
BEGIN:VEVENT
DTSTART:20171029T160000Z
DTEND:20171029T200000Z
X-MICROSOFT-CDO-ALLDAYEVENT:FALSE
SUMMARY:Fall Festival
DESCRIPTION:Please join us for our first annual Fall Festival! This will be a family-friendly event with activities for both parents and kids. There will be pumpkin carving and decorating\, make your own candy apples\, face painting\, and a costume contest for kids. Live music\, dancing\, chair massages\, and mini manis for adults to relax and unwind. Stripers will be serving true Americana food- burgers\, hotdogs\, popcorn\, and chili\, to name a few. We will also offer a few adult beverages from our sponsors.
X-ALT-DESC;FMTTYPE=text/html:Please join us for our first annual Fall Festival! This will be a family-friendly event with activities for both parents and kids. There will be pumpkin carving and decorating\, make your own candy apples\, face painting\, and a costume contest for kids. Live music\, dancing\, chair massages\, and mini manis for adults to relax and unwind. Stripers will be serving true Americana food- burgers\, hotdogs\, popcorn\, and chili\, to name a few. We will also offer a few adult beverages from our sponsors.
LOCATION:Stripers Waterside Restaurant
UID:e.1923.6939
SEQUENCE:3
DTSTAMP:20260424T101001Z
URL:https://chamber.gokennebunks.com/events/details/fall-festival-6939
END:VEVENT

END:VCALENDAR
