BEGIN:VCALENDAR
VERSION:2.0
PRODID:-//ChamberMaster//Event Calendar 2.0//EN
METHOD:PUBLISH
X-PUBLISHED-TTL:P3D
REFRESH-INTERVAL:P3D
CALSCALE:GREGORIAN
BEGIN:VEVENT
DTSTART:20240921T160000Z
DTEND:20240921T220000Z
X-MICROSOFT-CDO-ALLDAYEVENT:FALSE
SUMMARY:Fall Family Festival at The Lodge on the Cove
DESCRIPTION:Take part in a fun\, fall-filled day with our festival of family fun\, musicians\, classic Maine cuisine\, cozy cider\, and crisp craft beer at our Fall Family Festival at The Lodge on the Cove on Saturday\, September 21\, 2024 between 12-6pm. Experience the bounty of Maine classics and quintessential kid-friendly activities... A celebration of autumnal abundance! From a savory pig roast\, courtesy of The Boathouse Restaurant\, and gooey s'mores by the fire to seasonal beers from our friends at Boston Beer Co\, fall is an exceptional time to have a taste of Maine. Plus\, enjoy our live music and exciting kids activities! Make it a weekend and book a stay at The Lodge on the Cove   Includes your tickets + on-site parking! To book now\, click here. Festival will be happening rain or shine! There will be no on-site parking\, so please stay tuned for shuttle options. Pets are welcome at the event\, but must be kept on a leash at all times. Activities & Friends: ?? Pumpkin scavenger hunt ?? Potato sack races ??? Pumpkin & face painting ?? Donuts on a string ?? Swimming in our outdoor heated pool ?? Boston Beer Co. ?? Downeast Cider ?? Wild Bevy ? The Boathouse Restaurant
X-ALT-DESC;FMTTYPE=text/html:Take part in a fun\, fall-filled day with our festival of family fun\, musicians\, classic Maine cuisine\, cozy cider\, and crisp craft beer at our Fall Family Festival at The Lodge on the Cove on Saturday\, September 21\, 2024 between 12-6pm. Experience the bounty of Maine classics and quintessential kid-friendly activities... A celebration of autumnal abundance! From a savory pig roast\, courtesy of The Boathouse Restaurant\, and gooey s&rsquo\;mores by the fire to seasonal beers from our friends at Boston Beer Co\, fall is an exceptional time to have a taste of Maine. Plus\, enjoy our live music and exciting kids activities! Make it a weekend and book a stay at The Lodge on the Cove &ndash\; Includes your tickets + on-site parking! To book now\, click here. Festival will be happening rain or shine! There will be no on-site parking\, so please stay tuned for shuttle options. Pets are welcome at the event\, but must be kept on a leash at all times. Activities &amp\; Friends: ?? Pumpkin scavenger hunt ?? Potato sack races ??? Pumpkin &amp\; face painting ?? Donuts on a string ?? Swimming in our outdoor heated pool ?? Boston Beer Co. ?? Downeast Cider ?? Wild Bevy ? The Boathouse Restaurant
LOCATION:The Lodge on the Cove 29 South Main Street Kennebunkport\, ME 04046
UID:e.1923.29909
SEQUENCE:3
DTSTAMP:20260421T100348Z
URL:https://chamber.gokennebunks.com/events/details/fall-family-festival-at-the-lodge-on-the-cove-29909
END:VEVENT

END:VCALENDAR
