BEGIN:VCALENDAR
VERSION:2.0
PRODID:-//ChamberMaster//Event Calendar 2.0//EN
METHOD:PUBLISH
X-PUBLISHED-TTL:P3D
REFRESH-INTERVAL:P3D
CALSCALE:GREGORIAN
BEGIN:VEVENT
DTSTART:20191019T203000Z
DTEND:20191019T220000Z
X-MICROSOFT-CDO-ALLDAYEVENT:FALSE
SUMMARY:Fall Baked Bean and Pasta Supper
DESCRIPTION:Benefit Supper for Arundel Historical Society
X-ALT-DESC;FMTTYPE=text/html:Benefit Supper for Arundel Historical Society
LOCATION:M.L.Day School Gym Limerick Road\, Arundel
UID:e.1923.13077
SEQUENCE:3
DTSTAMP:20260424T140714Z
URL:https://chamber.gokennebunks.com/events/details/fall-baked-bean-and-pasta-supper-13077
END:VEVENT

END:VCALENDAR
