BEGIN:VCALENDAR
VERSION:2.0
PRODID:-//ChamberMaster//Event Calendar 2.0//EN
METHOD:PUBLISH
X-PUBLISHED-TTL:P3D
REFRESH-INTERVAL:P3D
CALSCALE:GREGORIAN
BEGIN:VEVENT
DTSTART:20180916T180000Z
DTEND:20180916T200000Z
X-MICROSOFT-CDO-ALLDAYEVENT:FALSE
SUMMARY:Fall '18 Collection and Preview of "Serene" New Arrivals
DESCRIPTION:As busy women\, whether with our careers or our kids' crazy schedules\, we often don't have time for ourselves\, let alone time to shop for clothes! But every now and then we need new pieces to refresh our wardrobe. And\, if you're like me\, the last place you want to go is the dreaded mall where you spend half of your time parking and leave frustrated.\n\nWell\, there is a real solution to this! Say goodbye to stores and the mall and head on over to my house on September 16th from 2-4 PM. I will have the full collection for you to touch and try on\, plus I will share the limited edition pieces from Serene\, our first set of New Arrivals.\n\nTrust me\, you'll never want to go back to the old way of shopping. I will have sips and savories\, so just come relax and enjoy a special night out with the girls.\n\nSave the date and PLEASE RSVP above I can't wait to see you!
X-ALT-DESC;FMTTYPE=text/html:<p>As busy women\, whether with our careers or our kids&rsquo\; crazy schedules\, we often don&rsquo\;t have time for ourselves\, let alone time to shop for clothes! But every now and then we need new pieces to refresh our wardrobe. And\, if you&rsquo\;re like me\, the last place you want to go is the dreaded mall where you spend half of your time parking and leave frustrated.</p>\n\n<p>Well\, there is a real solution to this! Say goodbye to stores and the mall and head on over to my house on September 16th from 2-4 PM. I will have the full collection for you to touch and try on\, plus I will share the limited&nbsp\;edition pieces from Serene\, our first set of New Arrivals.</p>\n\n<p>Trust me\, you&rsquo\;ll never want to go back to the old way of shopping. I will have sips and savories\, so just&nbsp\;come&nbsp\;relax and enjoy a special night out with the girls.</p>\n\n<p>Save the date and PLEASE RSVP above&hellip\;I can&rsquo\;t wait to see you!</p>\n
LOCATION:The Chamber 16 Water Street\, Kennebunk\, ME 04043
UID:e.1923.11467
SEQUENCE:3
DTSTAMP:20260425T104153Z
URL:https://chamber.gokennebunks.com/events/details/fall-18-collection-and-preview-of-serene-new-arrivals-11467
END:VEVENT

END:VCALENDAR
