BEGIN:VCALENDAR
VERSION:2.0
PRODID:-//ChamberMaster//Event Calendar 2.0//EN
METHOD:PUBLISH
X-PUBLISHED-TTL:P3D
REFRESH-INTERVAL:P3D
CALSCALE:GREGORIAN
BEGIN:VEVENT
DTSTART:20190424T220000Z
DTEND:20190425T000000Z
X-MICROSOFT-CDO-ALLDAYEVENT:FALSE
SUMMARY:Exploring Wabanaki Maine History
DESCRIPTION:Maine-Wabanaki REACH\, Wells Reserve at Laudholm\, and Brick Store Museum invite you to an interactive story-telling experience.\n\n\n\nWe will learn about events in the colonizing history of Wabanaki people (the Indigenous people of Maine) and Europeans and their descendants.\n\n\n\nThis is a participatory program appropriate for adults and teens. Our goal is to increase our understanding of colonization.\n\n\n\nTo register\, please visit this link: http://www.mainewabanakireach.org/exploring_wabanaki_maine_history_wells_20190424\n\n\n\nRegistrations help us with planning. Please include your contact info for us to keep you apprised of updates or changes.\n\n\n\nThis event is co-sponsored by Wells Reserve at Laudholm and the Brick Store Museum. It is free and open to the public\, with registration (via the link above) encouraged. The program will take place at the Wells Reserve.\n\n\n\nFor more information\, contact Barbara Kates at Barbara@mainewabanakireach.org or at 207-951-4874
X-ALT-DESC;FMTTYPE=text/html:Maine-Wabanaki REACH\, Wells Reserve at Laudholm\, and Brick Store Museum invite you to an interactive story-telling experience.<br />\n<br />\nWe will learn about events in the colonizing history of Wabanaki people (the Indigenous people of Maine) and Europeans and their descendants.<br />\n<br />\nThis is a participatory program appropriate for adults and teens. Our goal is to increase our understanding of colonization.<br />\n<br />\nTo register\, please visit this link: http://www.mainewabanakireach.org/exploring_wabanaki_maine_history_wells_20190424<br />\n<br />\nRegistrations help us with planning. Please include your contact info for us to keep you apprised of updates or changes.<br />\n<br />\nThis event is co-sponsored by Wells Reserve at Laudholm and the Brick Store Museum. It is free and open to the public\, with registration (via the link above) encouraged. The program will take place at the Wells Reserve.<br />\n<br />\nFor more information\, contact Barbara Kates at Barbara@mainewabanakireach.org or at 207-951-4874
LOCATION:Mather Auditorium Wells Reserve at Laudholm 342 Laudholm Farm Rd Wells\, ME 04090
UID:e.1923.13128
SEQUENCE:3
DTSTAMP:20260425T000148Z
URL:https://chamber.gokennebunks.com/events/details/exploring-wabanaki-maine-history-13128
END:VEVENT

END:VCALENDAR
