BEGIN:VCALENDAR
VERSION:2.0
PRODID:-//ChamberMaster//Event Calendar 2.0//EN
METHOD:PUBLISH
X-PUBLISHED-TTL:P3D
REFRESH-INTERVAL:P3D
CALSCALE:GREGORIAN
BEGIN:VEVENT
DTSTART:20240805T130000Z
DTEND:20240809T190000Z
X-MICROSOFT-CDO-ALLDAYEVENT:FALSE
SUMMARY:EXPLORE THE ARTS CAMP
DESCRIPTION:9:00AM-3:00PM FULL DAY\n\nMONDAY-FRIDAY\, AUGUST 5-9 (5 days)\n\nGrades 2-5\n\nInstructors: Satsi Schimelpfenig\, Leah Payne\, and Abby Nolette\n\nWant to try different kinds of art? Join us for "Explore the Arts camp" where students will experience a variety of art in an all-in-one camp. From ceramics\, to painting and drawing as well as dancing and fun movement games\, students will get to experience a wide variety of different art mediums in a fun\, engaging and creative way!\n\nThis is a full-day\, week-long camp:\n\n\n	9:00-11:30AM: Ceramics w/ Satsi (includes snack break)\n	11:30AM-12:30PM Dance/Movement w/ Abby\n	12:30-1:00PM Lunch Break\n	1:00-3:00PM Art w/Leah\n\n\nStudents provide their own snacks AND lunch (RTA is a NUT-FREE facility)\n\nStudents will not spend time outside / off premises. \n\nMax attendees: 10\nREGISTER HERE: https://rivertree.app.neoncrm.com/np/clients/rivertree/event.jsp?event=12470&\n\n\n\nMembers: $525 | Non-Members: $580 (all supplies included)
X-ALT-DESC;FMTTYPE=text/html:<p><strong>9:00AM-3:00PM&mdash\;FULL DAY<br />\nMONDAY-FRIDAY\, AUGUST 5-9 (5 days)<br />\nGrades 2-5</strong><br />\n<em>Instructors: Satsi Schimelpfenig\, Leah Payne\, and Abby Nolette</em></p>\n\n<p>Want to try different kinds of art? Join us for &ldquo\;<em>Explore the Arts camp</em>&rdquo\; where students will experience a variety of art in an all-in-one camp. From ceramics\, to painting and drawing as well as dancing and fun movement games\, students will get to experience a wide variety of different art mediums in a fun\, engaging and creative way!</p>\n\n<p>This is a full-day\, week-long camp:</p>\n\n<ul>\n	<li>9:00-11:30AM: Ceramics w/ Satsi (includes snack break)</li>\n	<li>11:30AM-12:30PM Dance/Movement w/ Abby</li>\n	<li>12:30-1:00PM Lunch Break</li>\n	<li>1:00-3:00PM Art w/Leah</li>\n</ul>\n\n<p><em><strong>Students provide their own snacks AND lunch (RTA is a NUT-FREE facility)</strong></em></p>\n\n<p><em><strong>Students will not spend time outside / off premises.&nbsp\;</strong></em></p>\n\n<p>Max attendees: 10</p>\nREGISTER HERE:&nbsp\;<a href="https://rivertree.app.neoncrm.com/np/clients/rivertree/event.jsp?event=12470&amp\;">https://rivertree.app.neoncrm.com/np/clients/rivertree/event.jsp?event=12470&amp\;</a><br />\n<br />\nMembers: $525 | Non-Members: $580 (all supplies included)
LOCATION:River Tree Arts\, 35 Western Ave.\, Kennebunk\, Maine
UID:e.1923.24530
SEQUENCE:3
DTSTAMP:20260421T124228Z
URL:https://chamber.gokennebunks.com/events/details/explore-the-arts-camp-08-05-2024-24530
END:VEVENT

END:VCALENDAR
