BEGIN:VCALENDAR
VERSION:2.0
PRODID:-//ChamberMaster//Event Calendar 2.0//EN
METHOD:PUBLISH
X-PUBLISHED-TTL:P3D
REFRESH-INTERVAL:P3D
CALSCALE:GREGORIAN
BEGIN:VEVENT
DTSTART:20230623T220000Z
DTEND:20230624T010000Z
X-MICROSOFT-CDO-ALLDAYEVENT:FALSE
SUMMARY:Evening Jazz with Rob Robbins at Via Sophia
DESCRIPTION:Enjoy Italian cuisine while listening to classic jazz covers of Frank Sinatra\, Billy Joel\, Tony Bennett\, & more during dinner service.
X-ALT-DESC;FMTTYPE=text/html:Enjoy Italian cuisine while listening to classic jazz covers of Frank Sinatra\, Billy Joel\, Tony Bennett\, &amp\; more during dinner service.
LOCATION:Via Sophia by the Sea 27 Western Ave Kennebunk\, ME 04043
UID:e.1923.20874
SEQUENCE:3
DTSTAMP:20260422T063456Z
URL:https://chamber.gokennebunks.com/events/details/evening-jazz-with-rob-robbins-at-via-sophia-20874
END:VEVENT

END:VCALENDAR
