BEGIN:VCALENDAR
VERSION:2.0
PRODID:-//ChamberMaster//Event Calendar 2.0//EN
METHOD:PUBLISH
X-PUBLISHED-TTL:P3D
REFRESH-INTERVAL:P3D
CALSCALE:GREGORIAN
BEGIN:VEVENT
DTSTART:20250222T190000Z
DTEND:20250222T200000Z
X-MICROSOFT-CDO-ALLDAYEVENT:FALSE
SUMMARY:Espresso Martini Mixology Class at Ocean Restaurant
DESCRIPTION:Embark on a journey into the refined world of the Espresso Martini\, where expert mixologists will unveil the delicate artistry behind this iconic drink. Discover the perfect harmony of premium espresso\, smooth spirits\, and exquisite liqueurs\, as you master the craft of creating this timeless drink. Uncover the fascinating stories behind the garnish of three coffee beans\, the origins of the Espresso Martini\, the secrets of choosing the right espresso\, and much more. Delight in exploring creative variations of this beloved classic throughout the class. Immerse yourself in the art of flavor\, and walk away with the skills to elevate any occasion with the elegance of the Espresso Martini. Cheers to the perfect harmony of coffee & cocktails! Tickets include: ? Three(3) cocktails ?? Light bites & snacks ?? Take home recipe cards More Information about Ocean at Cape Arundel Inn & Resort in Kennebunkport\, Maine. __ Class is open to adults 21 years of age or older. Proper ID is required at door. We look forward to seeing you.
X-ALT-DESC;FMTTYPE=text/html:Embark on a journey into the refined world of the Espresso Martini\, where expert mixologists will unveil the delicate artistry behind this iconic drink. Discover the perfect harmony of premium espresso\, smooth spirits\, and exquisite liqueurs\, as you master the craft of creating this timeless drink. Uncover the fascinating stories behind the garnish of three coffee beans\, the origins of the Espresso Martini\, the secrets of choosing the right espresso\, and much more. Delight in exploring creative variations of this beloved classic throughout the class. Immerse yourself in the art of flavor\, and walk away with the skills to elevate any occasion with the elegance of the Espresso Martini. Cheers to the perfect harmony of coffee &amp\; cocktails! Tickets include: ? Three(3) cocktails ?? Light bites &amp\; snacks ?? Take home recipe cards More Information about Ocean at Cape Arundel Inn &amp\; Resort in Kennebunkport\, Maine. __ Class is open to adults 21 years of age or older. Proper ID is required at door. We look forward to seeing you.
LOCATION:Ocean Restaurant at Cape Arundel Inn & Resort 208 Ocean Avenue\, Kennebunkport
UID:e.1923.33241
SEQUENCE:3
DTSTAMP:20260420T230318Z
URL:https://chamber.gokennebunks.com/events/details/espresso-martini-mixology-class-at-ocean-restaurant-33241
END:VEVENT

END:VCALENDAR
