BEGIN:VCALENDAR
VERSION:2.0
PRODID:-//ChamberMaster//Event Calendar 2.0//EN
METHOD:PUBLISH
X-PUBLISHED-TTL:P3D
REFRESH-INTERVAL:P3D
CALSCALE:GREGORIAN
BEGIN:VEVENT
DTSTART:20240623T000000Z
DTEND:20240623T020000Z
X-MICROSOFT-CDO-ALLDAYEVENT:FALSE
SUMMARY:Erica Brown & The Bluegrass Connection
DESCRIPTION:Food Truck 6pm | Doors 7pm | Show 8pm
X-ALT-DESC;FMTTYPE=text/html:<strong>Food Truck 6pm | Doors 7pm | Show 8pm</strong>
LOCATION:Vinegar Hill Music Theatre 53 Old Post Road Arundel\, Maine 04046
UID:e.1923.25348
SEQUENCE:3
DTSTAMP:20260421T140109Z
URL:https://chamber.gokennebunks.com/events/details/erica-brown-the-bluegrass-connection-25348
END:VEVENT

END:VCALENDAR
