BEGIN:VCALENDAR
VERSION:2.0
PRODID:-//ChamberMaster//Event Calendar 2.0//EN
METHOD:PUBLISH
X-PUBLISHED-TTL:P3D
REFRESH-INTERVAL:P3D
CALSCALE:GREGORIAN
BEGIN:VEVENT
DTSTART:20170922T203000Z
DTEND:20170922T233000Z
X-MICROSOFT-CDO-ALLDAYEVENT:FALSE
SUMMARY:End-of-Summer Gathering
DESCRIPTION:Maine Craft Distilling | Art | Auction Preview\n\n\n\nThat just about explains it all.\n\n\n\nCome celebrate the end of a wonderful summer at the Brick Store Museum on Friday\, September 22\, 2017 from 4:30pm - 7:30pm.\n\n\n\nHere's what the Gathering involves:\n\n\n\nTaste selections from Maine Craft Distilling of Portland\, Maine (learn more about their offerings here) in our collections storage vaults\;\n\nEnjoy a night of art and bid a final farewell to the Museum's "Once Upon a Time in Maine: A Fairy Tale Art & Artifact Show\," in which all artwork on display will be for sale at 10%-20% off the original price\;\n\nMeet the talented fairy tale artists\;\n\nand get a sneak-preview of the Museum's Fall Online Auction\, set to kick off on September 30th.\n\n\n\nMusic and hors d'oeuvres will complete the evening. \n\n\n\nHurry - tickets to this event are extremely limited!\n\n\n\nCost: $20 per person ($15 for Museum Members)\, with 50% of the price a tax-deductible donation to the Museum. Come and celebrate the arts and "spirits" in our community!
X-ALT-DESC;FMTTYPE=text/html:<span style="color:rgb(75\, 79\, 86)\; font-family:helvetica\,arial\,sans-serif\; font-size:14px">Maine Craft Distilling | Art | Auction Preview</span><br />\n<br />\n<span style="color:rgb(75\, 79\, 86)\; font-family:helvetica\,arial\,sans-serif\; font-size:14px">That just about explains it all.</span><br />\n<br />\n<span style="color:rgb(75\, 79\, 86)\; font-family:helvetica\,arial\,sans-serif\; font-size:14px">Come celebrate the end of a wonderful summer at the Brick Store Museum on Friday\, September 22\, 2017 from 4:30pm - 7:30pm.</span><br />\n<br />\n<span style="color:rgb(75\, 79\, 86)\; font-family:helvetica\,arial\,sans-serif\; font-size:14px">Here&#39\;s what the Gathering involves:</span><br />\n<br />\n<span style="color:rgb(75\, 79\, 86)\; font-family:helvetica\,arial\,sans-serif\; font-size:14px">Taste selections from Maine Craft Distilling of Portland\, Maine (learn more about their offerings here) in our collections storage vaults\;</span><br />\n<span style="color:rgb(75\, 79\, 86)\; font-family:helvetica\,arial\,sans-serif\; font-size:14px">Enjoy a night of art and bid a final farewell to the Museum&#39\;s &quot\;Once Upon a Time in Maine: A Fairy Tale Art &amp\; Artifact Show\,&quot\; in which all artwork on display will be for sale at 10%-20% off the original price\;</span><br />\n<span style="color:rgb(75\, 79\, 86)\; font-family:helvetica\,arial\,sans-serif\; font-size:14px">Meet the talented fairy tale artists\;</span><br />\n<span style="color:rgb(75\, 79\, 86)\; font-family:helvetica\,arial\,sans-serif\; font-size:14px">and get a sneak-preview of the Museum&#39\;s Fall Online Auction\, set to kick off on Septemb</span><span style="color:rgb(75\, 79\, 86)\; font-family:helvetica\,arial\,sans-serif\; font-size:14px">er 30th.<br />\n<br />\nMusic and hors d&#39\;oeuvres will complete the evening.&nbsp\;<br />\n<br />\nHurry - tickets to this event are extremely limited!<br />\n<br />\nCost: $20 per person ($15 for Museum Members)\, with 50% of the price a tax-deductible donation to the Museum. Come and celebrate the arts and &quot\;spirits&quot\; in our community!</span>
LOCATION:Brick Store Museum 117 Main Street\, Kennebunk\, ME 04043
UID:e.1923.5926
SEQUENCE:3
DTSTAMP:20260426T022956Z
URL:https://chamber.gokennebunks.com/events/details/end-of-summer-gathering-5926
END:VEVENT

END:VCALENDAR
