BEGIN:VCALENDAR
VERSION:2.0
PRODID:-//ChamberMaster//Event Calendar 2.0//EN
METHOD:PUBLISH
X-PUBLISHED-TTL:P3D
REFRESH-INTERVAL:P3D
CALSCALE:GREGORIAN
BEGIN:VEVENT
DTSTART:20231210T003000Z
DTEND:20231210T023000Z
X-MICROSOFT-CDO-ALLDAYEVENT:FALSE
SUMMARY:Elf: The Musical
DESCRIPTION:ELF The Musical: Book by Thomas Meehan and Bob Martin\, Music by Matthew Sklar\, Lyrics by Chad Begueli Show Dec 1-17 (no performance Dec 3) is the hilarious tale of Buddy\, a young orphan child who mistakenly crawls into Santa's bag of gifts and is transported back to the North Pole. Unaware that he is actually human\, Buddy's enormous size and poor toy-making abilities cause him to face the truth. With Santa's permission\, Buddy embarks on a journey to New York City to find his birth father\, discover his true identity\, and help New York remember the true meaning of Christmas. This modern-day Christmas classic is sure to make everyone embrace their inner ELF. More information and tickets can be found at https://www.citytheater.org/buy-tickets/
X-ALT-DESC;FMTTYPE=text/html:ELF The Musical: Book by&nbsp\;Thomas Meehan and Bob Martin\, Music by&nbsp\;Matthew Sklar\, Lyrics by&nbsp\;Chad Begueli Show Dec 1-17 (no performance Dec 3) is the hilarious tale of Buddy\, a young orphan child who mistakenly crawls into Santa&rsquo\;s bag of gifts and is transported back to the North Pole. Unaware that he is actually human\, Buddy&rsquo\;s enormous size and poor toy-making abilities cause him to face the truth. With Santa&rsquo\;s permission\, Buddy embarks on a journey to New York City to find his birth father\, discover his true identity\, and help New York remember the true meaning of Christmas. This modern-day Christmas classic is sure to make everyone embrace their inner&nbsp\;ELF. More information and tickets can be found at&nbsp\;https://www.citytheater.org/buy-tickets/
LOCATION:Biddeford City Theater
UID:e.1923.22487
SEQUENCE:3
DTSTAMP:20260421T221321Z
URL:https://chamber.gokennebunks.com/events/details/elf-the-musical-12-09-2023-22487
END:VEVENT

END:VCALENDAR
