BEGIN:VCALENDAR
VERSION:2.0
PRODID:-//ChamberMaster//Event Calendar 2.0//EN
METHOD:PUBLISH
X-PUBLISHED-TTL:P3D
REFRESH-INTERVAL:P3D
CALSCALE:GREGORIAN
BEGIN:VEVENT
DTSTART:20230528T140000Z
DTEND:20230528T180000Z
X-MICROSOFT-CDO-ALLDAYEVENT:FALSE
SUMMARY:Easy Like Sunday Morning Brunch
DESCRIPTION:Don't let go of that Weekend Feeling  Join us from 10am-2pm for inventive Brunch plates\, a Bloody Mary Bar\, and Mix-Your-Own Mimosas (tableside!). Ease into your week with a delicious brunch at the waters edge\; you deserve it! View the full brunch menu here.
X-ALT-DESC;FMTTYPE=text/html:Don&rsquo\;t let go of that Weekend Feeling&hellip\; Join us from 10am-2pm for inventive Brunch plates\, a Bloody Mary Bar\, and Mix-Your-Own Mimosas (tableside!). Ease into your week with a delicious brunch at the waters edge\; you deserve it! View the full brunch menu here.
LOCATION:The Nonantum Resort 95 Ocean Avenue Kennebunkport\, ME 04046
UID:e.1923.19211
SEQUENCE:3
DTSTAMP:20260424T101420Z
URL:https://chamber.gokennebunks.com/events/details/easy-like-sunday-morning-brunch-05-28-2023-19211
END:VEVENT

END:VCALENDAR
