BEGIN:VCALENDAR
VERSION:2.0
PRODID:-//ChamberMaster//Event Calendar 2.0//EN
METHOD:PUBLISH
X-PUBLISHED-TTL:P3D
REFRESH-INTERVAL:P3D
CALSCALE:GREGORIAN
BEGIN:VEVENT
DTSTART:20240217T190000Z
DTEND:20240217T210000Z
X-MICROSOFT-CDO-ALLDAYEVENT:FALSE
SUMMARY:Earth Mixology Class - Paint the Town Red
DESCRIPTION:Immerse yourself in the art of mixology with our team of expert bartenders who will teach you the craft of preparing classic cocktails. Our libations are elevated by the infusion of fresh ingredients sourced from our own gardens\, complemented by the use of dehydrated fruit wheels for garnish and the incorporation of mouthwatering shrubs. Without a doubt\, Earth at Hidden Pond's cocktails are among the most exceptional in town! Includes Three (3) full cocktails tastings and small snacks. Part of programming for Paint the Town Red! The class warmly welcomes adults who are 21 years of age or older and kindly requests that they bring proper identification upon arrival. We eagerly anticipate your attendance.
X-ALT-DESC;FMTTYPE=text/html:Immerse yourself in the art of mixology with our team of expert bartenders who will teach you the craft of preparing classic cocktails. Our libations are elevated by the infusion of fresh ingredients sourced from our own gardens\, complemented by the use of dehydrated fruit wheels for garnish and the incorporation of mouthwatering shrubs. Without a doubt\, Earth at Hidden Pond&rsquo\;s cocktails are among the most exceptional in town! Includes Three (3) full cocktails tastings and small snacks. Part of programming for Paint the Town Red! The class warmly welcomes adults who are 21 years of age or older and kindly requests that they bring proper identification upon arrival. We eagerly anticipate your attendance.
LOCATION:Restaurant Earth at Hidden Pond - 354 Goose Rocks Road Kennebunkport\, Maine 04046
UID:e.1923.23339
SEQUENCE:3
DTSTAMP:20260421T204805Z
URL:https://chamber.gokennebunks.com/events/details/earth-mixology-class-paint-the-town-red-23339
END:VEVENT

END:VCALENDAR
