BEGIN:VCALENDAR
VERSION:2.0
PRODID:-//ChamberMaster//Event Calendar 2.0//EN
METHOD:PUBLISH
X-PUBLISHED-TTL:P3D
REFRESH-INTERVAL:P3D
CALSCALE:GREGORIAN
BEGIN:VEVENT
DTSTART:20241213T070000Z
DTEND:20241213T203000Z
X-MICROSOFT-CDO-ALLDAYEVENT:FALSE
SUMMARY:Earth at Hidden Pond Winter Wine Class | South African Wines
DESCRIPTION:Join us at Earth at Hidden Pond as we celebrate Christmas Prelude where you'll experience the warm and savory flavors of winter paired with a variety of blends. Enjoy canapes and sip on the sweet tastes of the chilly season.\n\n\n	Saturday\, November 16th at 2pm | Wines for Your Thanksgiving Table\n	Friday\, December 13th at 2pm | South African Wines\n\n\nMore Information about Earth at Hidden Pond in Kennebunkport\, Maine.\n\n\n\nBuy Tickets\n\n__\n\nClass is open to adults 21 years of age or older. Proper ID is required at door. We look forward to seeing you.
X-ALT-DESC;FMTTYPE=text/html:<p style="text-align:justify">Join us at Earth at Hidden Pond as we celebrate Christmas Prelude where you&#39\;ll experience the warm and savory flavors of winter paired with a variety of blends. Enjoy canapes and sip on the sweet tastes of the chilly season.</p>\n\n<ul>\n	<li>Saturday\, November 16th at 2pm | Wines for Your Thanksgiving Table</li>\n	<li>Friday\, December 13th at 2pm | South African Wines</li>\n</ul>\n\n<p><a href="https://www.earthathiddenpond.com/" rel="nofollow noopener noreferrer" style="text-decoration-line: none\; color: var(--eds-control\,#3659e3)\; cursor: pointer\; background-color: transparent\; box-sizing: border-box\; padding-top: 0px\;" target="_blank">More Information about Earth at Hidden Pond in Kennebunkport\, Maine.</a><br />\n<br />\n<strong><a href="https://www.eventbrite.com/cc/earth-cocktail-mixology-wine-classes-3489639">Buy Tickets</a></strong></p>\n\n<p>__</p>\n\n<p><em>Class is open to adults 21 years of age or older. Proper ID is required at door. We look forward to seeing you.</em></p>\n
LOCATION:Earth at Hidden Pond 354 Goose Rocks Road Kennebunkport\, ME 04046
UID:e.1923.29794
SEQUENCE:3
DTSTAMP:20260421T020647Z
URL:https://chamber.gokennebunks.com/events/details/earth-at-hidden-pond-winter-wine-class-south-african-wines-29794
END:VEVENT

END:VCALENDAR
