BEGIN:VCALENDAR
VERSION:2.0
PRODID:-//ChamberMaster//Event Calendar 2.0//EN
METHOD:PUBLISH
X-PUBLISHED-TTL:P3D
REFRESH-INTERVAL:P3D
CALSCALE:GREGORIAN
BEGIN:VEVENT
DTSTART:20190209T230000Z
DTEND:20190210T020000Z
X-MICROSOFT-CDO-ALLDAYEVENT:FALSE
SUMMARY:Earth at Hidden Pond's Winter Dinner
DESCRIPTION:Can't wait until May for a taste of Earth? Join us for an exclusive first look of Chef Joe Schafer's upcoming 2019 menu on Saturday\, February 9th at 6:00pm\, limited seating available. Your evening at Ocean at Cape Arundel Inn & Resort begins with a welcome cocktail reception hosted by the Hidden Pond & Earth teams followed by a three-course family-style dinner showcasing new recipes & menu favorites.\n\n$135 per person.  Includes three-course dinner\, wine pairing\, and tax.  Does not include gratuity.\n\n\n\nPurchase Tickets for Earth's Winter Dinner
X-ALT-DESC;FMTTYPE=text/html:<p>Can&rsquo\;t wait until May for a taste of Earth?&nbsp\;Join us for an exclusive first look of Chef Joe Schafer&rsquo\;s upcoming 2019 menu on&nbsp\;Saturday\, February 9th at 6:00pm\, limited seating available. Your evening at&nbsp\;<em>Ocean at Cape Arundel Inn &amp\; Resort</em>&nbsp\;begins with a welcome cocktail reception hosted by the Hidden Pond &amp\; Earth teams followed by a three-course family-style dinner showcasing new recipes &amp\; menu favorites.</p>\n\n<p>$135 per person.&nbsp\; Includes three-course dinner\, wine pairing\, and tax.&nbsp\; Does not include gratuity.<br />\n<br />\n<a href="https://www.eventbrite.com/e/earth-at-hidden-ponds-winter-dinner-february-9-2019-tickets-53309957518" rel="noopener" style="box-sizing: border-box\; color: rgb(0\, 0\, 0)\; font-family: Lato\; font-size: 16px\;" target="_blank"><span style="color:#FF0000">Purchase Tickets for Earth&rsquo\;s Winter Dinner</span></a></p>\n
LOCATION:Ocean at Cape Arundel Inn & Resort 208 Ocean Avenue | Kennebunkport\, ME
UID:e.1923.6990
SEQUENCE:3
DTSTAMP:20260425T013045Z
URL:https://chamber.gokennebunks.com/events/details/earth-at-hidden-pond-s-winter-dinner-6990
END:VEVENT

END:VCALENDAR
