BEGIN:VCALENDAR
VERSION:2.0
PRODID:-//ChamberMaster//Event Calendar 2.0//EN
METHOD:PUBLISH
X-PUBLISHED-TTL:P3D
REFRESH-INTERVAL:P3D
CALSCALE:GREGORIAN
BEGIN:VEVENT
DTSTART:20200206T230000Z
DTEND:20200207T020000Z
X-MICROSOFT-CDO-ALLDAYEVENT:FALSE
SUMMARY:Earth at Hidden Pond's Test Kitchen at The Boathouse
DESCRIPTION:Join Chef Joseph Schafer for an exclusive dinner as he creates & tests recipes for the upcoming season at Earth at Hidden Pond.  Taking place during Kennebunkport's Paint the Town Red\, Earth's Test Kitchen will begin with a cocktail welcome at 6pm followed by a tapas-style tasting menu.  Only 20 seats available!\n\n\n\n$80.00++ per person\n\nPurchase Tickets to Earth's Test Kitchen
X-ALT-DESC;FMTTYPE=text/html:<p><span style="font-family:tahoma">Join Chef Joseph Schafer for an exclusive dinner as he creates &amp\; tests recipes for the upcoming season at Earth at Hidden Pond.&nbsp\; Taking place during Kennebunkport&rsquo\;s Paint the Town Red\, Earth&rsquo\;s Test Kitchen will begin with a cocktail welcome at 6pm followed by a tapas-style tasting menu.&nbsp\; Only 20 seats available!<br />\n<br />\n$80.00++ per person<br />\n<a href="https://www.eventbrite.com/e/85988113763"><span style="color:#B22222">Purchase Tickets to Earth&#39\;s Test Kitchen</span></a></span></p>\n
LOCATION:The Lobster Bar at The Boathouse 21 Ocean Avenue Kennebunkport\, Maine 04046
UID:e.1923.15598
SEQUENCE:3
DTSTAMP:20260424T113818Z
URL:https://chamber.gokennebunks.com/events/details/earth-at-hidden-pond-s-test-kitchen-at-the-boathouse-15598
END:VEVENT

END:VCALENDAR
