BEGIN:VCALENDAR
VERSION:2.0
PRODID:-//ChamberMaster//Event Calendar 2.0//EN
METHOD:PUBLISH
X-PUBLISHED-TTL:P3D
REFRESH-INTERVAL:P3D
CALSCALE:GREGORIAN
BEGIN:VEVENT
DTSTART:20250208T070000Z
DTEND:20250208T203000Z
X-MICROSOFT-CDO-ALLDAYEVENT:FALSE
SUMMARY:Earth at Hidden Pond Cocktail Mixology Class
DESCRIPTION:Learn how to prepare classic cocktails with our team of skilled bartenders. From infusing liquors with farm-fresh ingredients from our gardens to dehydrating fruit wheels for garnish to making delicious shrubs\, Earth at Hidden Pond's cocktails are some of the best around! Includes three (3) cocktail tastings. $78+ per person.\n\n\n	Saturday\, January 11th at 2pm\n	Saturday\, January 25th at 2pm\n	Saturday\, February 8th at 2pm\n	Saturday\, February 15th at 2pm\n\n\nMore Information about Earth at Hidden Pond in Kennebunkport\, Maine.\n\n\n\nPURCHASE TICKETS: https://www.eventbrite.com/cc/earth-cocktail-mixology-wine-classes-3489639\n\n__\n\nClass is open to adults 21 years of age or older. Proper ID is required at door. We look forward to seeing you.
X-ALT-DESC;FMTTYPE=text/html:<p style="text-align:justify">Learn how to prepare classic cocktails with our team of skilled bartenders. From infusing liquors with farm-fresh ingredients from our gardens to dehydrating fruit wheels for garnish to making delicious shrubs\, Earth at Hidden Pond&rsquo\;s cocktails are some of the best around! Includes three (3) cocktail tastings. <em>$78+ per person.</em></p>\n\n<ul>\n	<li>Saturday\, January 11th at 2pm</li>\n	<li>Saturday\, January 25th at 2pm</li>\n	<li>Saturday\, February 8th at 2pm</li>\n	<li>Saturday\, February 15th at 2pm</li>\n</ul>\n\n<p><a href="https://www.earthathiddenpond.com/" rel="nofollow noopener noreferrer" style="text-decoration-line: none\; color: var(--eds-control\,#3659e3)\; cursor: pointer\; background-color: transparent\; box-sizing: border-box\; padding-top: 0px\;" target="_blank">More Information about Earth at Hidden Pond in Kennebunkport\, Maine.</a><br />\n<br />\n<a href="https://www.eventbrite.com/cc/earth-cocktail-mixology-wine-classes-3489639"><strong>PURCHASE TICKETS:&nbsp\;</strong>https://www.eventbrite.com/cc/earth-cocktail-mixology-wine-classes-3489639</a></p>\n\n<p>__</p>\n\n<p><em>Class is open to adults 21 years of age or older. Proper ID is required at door. We look forward to seeing you.</em></p>\n
LOCATION:Earth at Hidden Pond 354 Goose Rocks Road Kennebunkport\, ME 04046
UID:e.1923.31495
SEQUENCE:3
DTSTAMP:20260420T230626Z
URL:https://chamber.gokennebunks.com/events/details/earth-at-hidden-pond-cocktail-mixology-class-02-08-2025-31495
END:VEVENT

END:VCALENDAR
