BEGIN:VCALENDAR
VERSION:2.0
PRODID:-//ChamberMaster//Event Calendar 2.0//EN
METHOD:PUBLISH
X-PUBLISHED-TTL:P3D
REFRESH-INTERVAL:P3D
CALSCALE:GREGORIAN
BEGIN:VEVENT
DTSTART:20230503T160000Z
DTEND:20230503T200000Z
X-MICROSOFT-CDO-ALLDAYEVENT:FALSE
SUMMARY:Early Release Wednesday – Games & Crafts!
DESCRIPTION:Looking for something fun to do? Spend your early release Wednesday at the Library! Learn to play Carom\, try our Lego station\, fishing\, chess\, crafts\, and more! For further information\, please call 967-2778 or visit our website at www.graveslibrary.org.
X-ALT-DESC;FMTTYPE=text/html:Looking for something fun to do? Spend your early release Wednesday at the Library! Learn to play Carom\, try our Lego station\, fishing\, chess\, crafts\, and more! For further information\, please call 967-2778 or visit our website at www.graveslibrary.org.
LOCATION:Louis T. Graves Memorial Public Library is located at 18 Maine Street\, Kennebunkport.
UID:e.1923.19131
SEQUENCE:3
DTSTAMP:20260422T075221Z
URL:https://chamber.gokennebunks.com/events/details/early-release-wednesday-games-crafts-05-03-2023-19131
END:VEVENT

END:VCALENDAR
