BEGIN:VCALENDAR
VERSION:2.0
PRODID:-//ChamberMaster//Event Calendar 2.0//EN
METHOD:PUBLISH
X-PUBLISHED-TTL:P3D
REFRESH-INTERVAL:P3D
CALSCALE:GREGORIAN
BEGIN:VEVENT
DTSTART:20230609T213000Z
DTEND:20230610T010000Z
X-MICROSOFT-CDO-ALLDAYEVENT:FALSE
SUMMARY:Duet Dinner with Chef Jonathan Cartwright at White Barn Inn Restaurant
DESCRIPTION:In celebration of White Barn Inn Restaurant's 50th anniversary\, join us on Friday\, June 9th in White Barn Inn Restaurant and Little Barn for an exclusive dinner with Chef Jonathan Cartwright\, who oversaw the Inn's culinary program from 1995 - 2015. Chef Jonathan Cartwright and Mathew Woolf\, the resort's current executive chef\, will work together to curate a menu of dishes showcasing some of the favorites from Cartwright's time at the resort.
X-ALT-DESC;FMTTYPE=text/html:In celebration of White Barn Inn Restaurant&rsquo\;s 50th anniversary\, join us on Friday\, June 9th in White Barn Inn Restaurant and Little Barn for an exclusive dinner with Chef Jonathan Cartwright\, who oversaw the Inn&rsquo\;s culinary program from 1995 - 2015. Chef Jonathan Cartwright and Mathew Woolf\, the resort&rsquo\;s current executive chef\, will work together to curate a menu of dishes showcasing some of the favorites from Cartwright&rsquo\;s time at the resort.
LOCATION:White Barn Inn Restaurant
UID:e.1923.19291
SEQUENCE:3
DTSTAMP:20260422T075301Z
URL:https://chamber.gokennebunks.com/events/details/duet-dinner-with-chef-jonathan-cartwright-at-white-barn-inn-restaurant-19291
END:VEVENT

END:VCALENDAR
