BEGIN:VCALENDAR
VERSION:2.0
PRODID:-//ChamberMaster//Event Calendar 2.0//EN
METHOD:PUBLISH
X-PUBLISHED-TTL:P3D
REFRESH-INTERVAL:P3D
CALSCALE:GREGORIAN
BEGIN:VEVENT
DTSTART:20180831T190000Z
DTEND:20180831T203000Z
X-MICROSOFT-CDO-ALLDAYEVENT:FALSE
SUMMARY:Drumming and Storytelling
DESCRIPTION:Song and dance and storytelling are central to Native American communities. Here is a chance to experience both traditional and contemporary drumming and singing while hearing the stories of each song and dance style. Presenter Chris Sockalexis is a lead singer with the powwow drum group The RezDogs and the Penobscot Nation Tribal Historic Preservation Officer.
X-ALT-DESC;FMTTYPE=text/html:Song and dance and storytelling are central to Native American communities. Here is a chance to experience both traditional and contemporary drumming and singing while hearing the stories of each song and dance style. Presenter Chris Sockalexis is a lead singer with the powwow drum group The RezDogs and the Penobscot Nation Tribal Historic Preservation Officer.
LOCATION:Wells Reserve at Laudholm 342 Laudholm Farm Rd ?Wells\, ME
UID:e.1923.11380
SEQUENCE:3
DTSTAMP:20260425T115613Z
URL:https://chamber.gokennebunks.com/events/details/drumming-and-storytelling-11380
END:VEVENT

END:VCALENDAR
