BEGIN:VCALENDAR
VERSION:2.0
PRODID:-//ChamberMaster//Event Calendar 2.0//EN
METHOD:PUBLISH
X-PUBLISHED-TTL:P3D
REFRESH-INTERVAL:P3D
CALSCALE:GREGORIAN
BEGIN:VEVENT
DTSTART:20250116T220000Z
DTEND:20250117T000000Z
X-MICROSOFT-CDO-ALLDAYEVENT:FALSE
SUMMARY:Driven Women Vision Board Event
DESCRIPTION:Enjoy an evening of manifesting your future with a vision board craft and your favorite driven women!\n\nSip\, snack\, craft and enjoy making connections and having a fun night out.\n\nShopping will be available if you'd like to bring home a wine you enjoyed.  \n\n\n\n$25 ticket includes two glasses of wine\, personal charcuterie and a guided vision board craft. Limited to 20 tickets.
X-ALT-DESC;FMTTYPE=text/html:<span style="font-family: arial\; font-size: 18px\;">Enjoy an evening of manifesting your future with a vision board craft and your favorite driven women!<br />\nSip\, snack\, craft and enjoy making connections and having a fun night out.<br />\nShopping will be available if you&#39\;d like to bring home a wine you enjoyed.&nbsp\;&nbsp\;</span><br style="font-family: arial\; font-size: 18px\;" />\n<br style="font-family: arial\; font-size: 18px\;" />\n<span style="font-family: arial\; font-size: 18px\;">$25 ticket includes two glasses of wine\,&nbsp\;personal charcuterie and a guided vision board craft.&nbsp\;</span><strong style="font-family: arial\; font-size: 18px\;">Limited to 20 tickets</strong><span style="font-family: arial\; font-size: 18px\;">.&nbsp\;</span>
LOCATION:Wine House on Main | 17 Main Street\, Kennebunk 04043
UID:e.1923.31129
SEQUENCE:3
DTSTAMP:20260421T003237Z
URL:https://chamber.gokennebunks.com/events/details/driven-women-vision-board-event-31129
END:VEVENT

END:VCALENDAR
