BEGIN:VCALENDAR
VERSION:2.0
PRODID:-//ChamberMaster//Event Calendar 2.0//EN
METHOD:PUBLISH
X-PUBLISHED-TTL:P3D
REFRESH-INTERVAL:P3D
CALSCALE:GREGORIAN
BEGIN:VEVENT
DTSTART:20250507T210000Z
DTEND:20250507T233000Z
X-MICROSOFT-CDO-ALLDAYEVENT:FALSE
SUMMARY:Driven Women 2025 Signature Event
DESCRIPTION:**This event is full\, thank you and see you next year!\n\n\n\n\n\nJoin us for an evening of inspiration as Driven Women welcomes Candice Simeoni\, Tiffany Lathrop and Tina Hewett Gordon to share their stories. \n\n\n\nThis signature event is a night to celebrate all of our journeys -- success\, failure and everything in between.\n\n\n\nWe'll mingle over refreshments and then listen to our wonderful speakers share their stories. There willl be a seafood bar with oysters\, lobster\, and shrimp along with passed appetizers and a street cart taco station. Mini cupcakes as well as coffee and tea to close the night. Cash bar is also available. \n\n\n\nEvent details: \n\n	Location - The Nonantum Resort\, 95 Ocean Ave\, Kennebunkport\n	Date & Time - May 7 from 5-7:30 PM\n	Ticket cost - $60\n	Speakers - Candice Simeoni\, Tiffany Lathrop and Tina Hewett Gordon\n\nPlease contact Jamie at events@gokennebunks.com with any questions. We look forward to seeing you there.
X-ALT-DESC;FMTTYPE=text/html:<span style="font-size:18px\;"><strong>**This event is full\, thank you and see you next year!<br />\n<br />\n<br />\nJoin us for an evening of inspiration as Driven Women welcomes&nbsp\;Candice Simeoni\, Tiffany Lathrop and Tina Hewett Gordon</strong><strong> to share their stories.&nbsp\;</strong><br />\n<br />\nThis signature event is a night to celebrate all of our journeys -- success\, failure and everything in between.<br />\n<br />\nWe&#39\;ll mingle over refreshments and then listen to our wonderful speakers share their stories. There willl be a seafood bar with oysters\, lobster\, and shrimp along with passed appetizers and a street cart taco station. Mini cupcakes as well as coffee and tea to close the night. Cash bar is also available.&nbsp\;<br />\n<br />\n<u><strong>Event details:&nbsp\;</strong></u></span>\n<ul>\n	<li><span style="font-size:18px\;"><strong>Location -</strong> The Nonantum Resort\, 95 Ocean Ave\, Kennebunkport</span></li>\n	<li><span style="font-size:18px\;"><strong>Date &amp\; Time -</strong>&nbsp\;May 7 from 5-7:30 PM</span></li>\n	<li><span style="font-size:18px\;"><strong>Ticket cost - </strong>$60</span></li>\n	<li><span style="font-size:18px\;"><strong>Speakers - </strong>Candice Simeoni\, Tiffany Lathrop and Tina Hewett Gordon</span></li>\n</ul>\n<span style="font-size:18px\;">Please contact Jamie at events@gokennebunks.com with any questions. We look forward to seeing you there.</span>
LOCATION:The Nonantum Resort 95 Ocean Ave\, Kennebunkport
UID:e.1923.33324
SEQUENCE:3
DTSTAMP:20260421T045900Z
URL:https://chamber.gokennebunks.com/events/details/driven-women-2025-signature-event-33324
END:VEVENT

END:VCALENDAR
