BEGIN:VCALENDAR
VERSION:2.0
PRODID:-//ChamberMaster//Event Calendar 2.0//EN
METHOD:PUBLISH
X-PUBLISHED-TTL:P3D
REFRESH-INTERVAL:P3D
CALSCALE:GREGORIAN
BEGIN:VEVENT
DTSTART:20240502T210000Z
DTEND:20240502T233000Z
X-MICROSOFT-CDO-ALLDAYEVENT:FALSE
SUMMARY:Driven Women 2024 Signature Event
DESCRIPTION:Join us for an evening of inspiration as Driven Women welcomes Colby Marvin Bracy\, Marina DeMarco and Gia Drew to share their stories. \n\n\n\nThis signature event (coming back for the first time since 2019!) is a night to celebrate all of our journeys -- success\, failure and everything in between.\n\n\n\nWe'll mingle over refreshments and then listen to our wonderful speakers share their stories. This year's bites will include a crudite and cheese platter\, a taco cart\, mini cupcakes as well as coffee and tea. Cash bar is also available. \n\n\n\nEvent details: \n\n	Location - The Nonantum Resort\, 95 Ocean Ave\, Kennebunkport\n	Date & Time - May 2 from 5-7:30 PM\n	Ticket cost - $60\n	Speakers - Colby Marvin Bracy\, Marina DeMarco and Gia Drew\n\nPlease contact Jamie at events@gokennebunks.com with any questions. We look forward to seeing you there.
X-ALT-DESC;FMTTYPE=text/html:<span style="font-size:18px\;"><strong>Join us for an evening of inspiration as Driven Women welcomes Colby Marvin Bracy\, Marina DeMarco and Gia Drew to share their stories.&nbsp\;</strong><br />\n<br />\nThis signature event (<em>coming back for the first time since 2019!</em>) is a night to celebrate all of our journeys -- success\, failure and everything in between.<br />\n<br />\nWe&#39\;ll mingle over refreshments and then listen to our wonderful speakers share their stories.&nbsp\;This year&#39\;s bites will include a crudite and cheese platter\, a taco cart\, mini cupcakes as well as coffee and tea. Cash bar is also available.&nbsp\;<br />\n<br />\n<u><strong>Event details:&nbsp\;</strong></u></span>\n<ul>\n	<li><span style="font-size:18px\;"><strong>Location -</strong> The Nonantum Resort\, 95 Ocean Ave\, Kennebunkport</span></li>\n	<li><span style="font-size:18px\;"><strong>Date &amp\; Time -</strong>&nbsp\;May 2 from 5-7:30 PM</span></li>\n	<li><span style="font-size:18px\;"><strong>Ticket cost - </strong>$60</span></li>\n	<li><span style="font-size:18px\;"><strong>Speakers - </strong>Colby Marvin Bracy\, Marina DeMarco&nbsp\;and Gia Drew</span></li>\n</ul>\n<span style="font-size:18px\;">Please contact Jamie at events@gokennebunks.com with any questions. We look forward to seeing you there.</span>
LOCATION:The Nonantum Resort 95 Ocean Ave\, Kennebunkport
UID:e.1923.24612
SEQUENCE:3
DTSTAMP:20260421T153115Z
URL:https://chamber.gokennebunks.com/events/details/driven-women-2024-signature-event-24612
END:VEVENT

END:VCALENDAR
