BEGIN:VCALENDAR
VERSION:2.0
PRODID:-//ChamberMaster//Event Calendar 2.0//EN
METHOD:PUBLISH
X-PUBLISHED-TTL:P3D
REFRESH-INTERVAL:P3D
CALSCALE:GREGORIAN
BEGIN:VEVENT
DTSTART:20190209T180000Z
DTEND:20190209T200000Z
X-MICROSOFT-CDO-ALLDAYEVENT:FALSE
SUMMARY:Drinks Through the Decades
DESCRIPTION:Learn how to prepare iconic cocktails from five decades of libations.  From the timeless Manhattan to Carrie's classic Cosmopolitan\, our team of skilled bartenders will help you find the right balance between spicy and refreshing for the perfect Bloody Mary.  Includes five (5) sample-size cocktails and a few snacks.  *Class is open to adults 21 years of age or older.  Proper ID is required at door.*\n\n$40 per person.\n\nPurchase Tickets for Drinks Through the Decades
X-ALT-DESC;FMTTYPE=text/html:<p>Learn how to prepare iconic cocktails from five decades of libations.&nbsp\; From the timeless Manhattan to Carrie&rsquo\;s classic Cosmopolitan\, our team of skilled bartenders will&nbsp\;help you find the right balance between spicy and refreshing for the perfect Bloody Mary.&nbsp\;&nbsp\;Includes five (5) sample-size cocktails and a few snacks.&nbsp\; *Class is open to adults 21 years of age or older. &nbsp\;Proper ID is required at door.*</p>\n\n<p>$40 per person.<br />\n<a href="https://www.eventbrite.com/e/drinks-through-the-decades-at-the-burleigh-tickets-52491847529" rel="noopener" style="box-sizing: border-box\; color: rgb(0\, 0\, 0)\; font-family: Lato\; font-size: 16px\;" target="_blank"><span style="color:#FF0000">Purchase Tickets for Drinks Through the Decades</span></a></p>\n
LOCATION:The Burleigh at the Kennebunkport Inn One Dock Square | Kennebunkport\, ME
UID:e.1923.6993
SEQUENCE:3
DTSTAMP:20260425T012754Z
URL:https://chamber.gokennebunks.com/events/details/drinks-through-the-decades-6993
END:VEVENT

END:VCALENDAR
