BEGIN:VCALENDAR
VERSION:2.0
PRODID:-//ChamberMaster//Event Calendar 2.0//EN
METHOD:PUBLISH
X-PUBLISHED-TTL:P3D
REFRESH-INTERVAL:P3D
CALSCALE:GREGORIAN
BEGIN:VEVENT
DTSTART;VALUE=DATE:20230526
DTEND;VALUE=DATE:20230527
TRANSP:TRANSPARENT
X-MICROSOFT-CDO-ALLDAYEVENT:TRUE
SUMMARY:Drinks on the Cocktail Deck at The Boathouse Restaurant
DESCRIPTION:Looking for a great way to kick off the summer season? The Boathouse will be celebrating What the Deck with Drinks on the Cocktail deck\, every friday and Saturday from May 17th through the 29th. The Cocktail Deck offers a fun and relaxing atmosphere for enjoying handcrafted cocktails\, local craft beers\, and delicious small plates\, all while taking in the stunning views of Kennebunkport. \n\n\n\nIn the evening we'll be welcoming local musicians for an evening of fun and entertainment. \n\n\n\nPart of The Boathouse's programming for What the Deck\, occurring from May 17th through the 29th in Kennebunkport and Kennebunk.
X-ALT-DESC;FMTTYPE=text/html:<span style="background-color:rgb(247\, 247\, 248)\; color:rgb(55\, 65\, 81)\; font-family:söhne\,ui-sans-serif\,system-ui\,-apple-system\,segoe ui\,roboto\,ubuntu\,cantarell\,noto sans\,sans-serif\,helvetica neue\,arial\,apple color emoji\,segoe ui emoji\,segoe ui symbol\,noto color emoji\; font-size:16px">Looking for a great way to kick off the summer season? The Boathouse will be celebrating What the Deck with Drinks on the Cocktail deck\, every friday and Saturday from May 17th through the 29th. The Cocktail Deck offers a fun and relaxing atmosphere for enjoying handcrafted cocktails\, local craft beers\, and delicious small plates\, all while taking in the stunning views of Kennebunkport.&nbsp\;<br />\n<br />\nIn the evening we&#39\;ll be welcoming local musicians for an evening of fun and entertainment.&nbsp\;<br />\n<br />\nPart of The Boathouse&#39\;s programming for What the Deck\, occurring from May 17th through the 29th in Kennebunkport and Kennebunk.</span>
LOCATION:The Boathouse Restaurant 21 Ocean Ave Kennebunkport\, Maine 04046
UID:e.1923.19150
SEQUENCE:3
DTSTAMP:20260424T122817Z
URL:https://chamber.gokennebunks.com/events/details/drinks-on-the-cocktail-deck-at-the-boathouse-restaurant-05-26-2023-19150
END:VEVENT

END:VCALENDAR
