BEGIN:VCALENDAR
VERSION:2.0
PRODID:-//ChamberMaster//Event Calendar 2.0//EN
METHOD:PUBLISH
X-PUBLISHED-TTL:P3D
REFRESH-INTERVAL:P3D
CALSCALE:GREGORIAN
BEGIN:VEVENT
DTSTART:20180718T210000Z
DTEND:20180719T010000Z
X-MICROSOFT-CDO-ALLDAYEVENT:FALSE
SUMMARY:Drink Pink Wednesdays at Pearl
DESCRIPTION:On Wednesday's we Drink Pink! Happy Hours extra on Wednesdays: Rose' and Frose' Cocktails $7 All day Rose' Specials: $7 Come join us on the Patio with a cold (Pink) glass and enjoy Summer how its meant to be!
X-ALT-DESC;FMTTYPE=text/html:On Wednesday&#39\;s we Drink Pink! Happy Hours extra on Wednesdays: Rose&#39\; and Frose&#39\; Cocktails $7 All day Rose&#39\; Specials: $7 Come join us on the Patio with a cold (Pink) glass and enjoy Summer how its meant to be!
LOCATION:27 Western Ave\, Lower Village\, Kennebunk
UID:e.1923.9955
SEQUENCE:3
DTSTAMP:20260425T132909Z
URL:https://chamber.gokennebunks.com/events/details/drink-pink-wednesdays-at-pearl-9955
END:VEVENT

END:VCALENDAR
