BEGIN:VCALENDAR
VERSION:2.0
PRODID:-//ChamberMaster//Event Calendar 2.0//EN
METHOD:PUBLISH
X-PUBLISHED-TTL:P3D
REFRESH-INTERVAL:P3D
CALSCALE:GREGORIAN
BEGIN:VEVENT
DTSTART:20180725T210000Z
DTEND:20180830T020000Z
X-MICROSOFT-CDO-ALLDAYEVENT:FALSE
SUMMARY:Drink Pink Wednesdays at Pearl
DESCRIPTION:On Wednesdays\, We Drink Pink! Come Join us at Pearl for some Rose'\, All Day! $7.00 Rose' Wine All Day $7.00 Frose' Cocktail from 5-6PM All Summer Long- Relax\, Sip\, Enjoy! Available on the PATIO\, at the BAR\, or reserve a TABLE!
X-ALT-DESC;FMTTYPE=text/html:On Wednesdays\, We Drink Pink! Come Join us at Pearl for some Rose&#39\;\, All Day! $7.00 Rose&#39\; Wine All Day $7.00 Frose&#39\; Cocktail from 5-6PM All Summer Long- Relax\, Sip\, Enjoy! Available on the PATIO\, at the BAR\, or reserve a TABLE!
LOCATION:27 Western Ave\, Lower Village Kennebunk
UID:e.1923.9963
SEQUENCE:3
DTSTAMP:20260425T104255Z
URL:https://chamber.gokennebunks.com/events/details/drink-pink-wednesdays-at-pearl-07-25-2018-9963
END:VEVENT

END:VCALENDAR
