BEGIN:VCALENDAR
VERSION:2.0
PRODID:-//ChamberMaster//Event Calendar 2.0//EN
METHOD:PUBLISH
X-PUBLISHED-TTL:P3D
REFRESH-INTERVAL:P3D
CALSCALE:GREGORIAN
BEGIN:VEVENT
DTSTART:20180315T220000Z
DTEND:20180316T000000Z
X-MICROSOFT-CDO-ALLDAYEVENT:FALSE
SUMMARY:Dress With Intention - An Evening About Closets\, Style... and Choices
DESCRIPTION:Does your personal style bring you joy?\n\nDo you find it overwhelming to go into your closet?\n\nDo you wish you had some tools to help you get rid of those items that aren't working for you and then rebuild your closet with clarity\, intention... and enjoyment?\n\n\n\nLisa and Kate have been discussing this subject for months and would like to share some of their tips and philosophies with you in a casual\, open conversation intended to leave you with an action plan to help you refresh your closet and your style.\n\n\n\nOur discussion with include:\n\n-How your dressing experience can connect you with your best self\n\n-How to determine which items are not serving you well and which are\n\n-How to streamline the closet-purging process\n\n-How to be sure your style suits your lifestyle and daily goals\n\n-What to look for in future purchases\n\n-How to shop like a pro\n\n\n\nClass fee: $25.00\n\n*maximum 12 participants\n\nTo register visit \n\n\n\nhttps://squareup.com/store/simple-joy-living-llc/item/dress-with-intention-1\n\n\n\nor contact Lisa at 207-808-0569 or Kate at 207-450-6577
X-ALT-DESC;FMTTYPE=text/html:<span style="color:rgb(75\, 79\, 86)\; font-family:sf optimized\,system-ui\,-apple-system\,system-ui\,.sfnstext-regular\,sans-serif\; font-size:14px">Does your personal style bring you joy?</span><br>\n<span style="color:rgb(75\, 79\, 86)\; font-family:sf optimized\,system-ui\,-apple-system\,system-ui\,.sfnstext-regular\,sans-serif\; font-size:14px">Do you find it overwhelming to go into your closet?</span><br>\n<span style="color:rgb(75\, 79\, 86)\; font-family:sf optimized\,system-ui\,-apple-system\,system-ui\,.sfnstext-regular\,sans-serif\; font-size:14px">Do you wish you had some tools to help you get rid of those items that aren't working for you and then rebuild your closet with clarity\, intention... and enjoyment?</span><br>\n<br>\n<span style="color:rgb(75\, 79\, 86)\; font-family:sf optimized\,system-ui\,-apple-system\,system-ui\,.sfnstext-regular\,sans-serif\; font-size:14px">Lisa and Kate have been discussing this subject for months and would like to share some of their tips and philosophies with you in a casual\, open conversation intended to leave you with an action plan to help you refresh your closet and your style.</span><br>\n<br>\n<span style="color:rgb(75\, 79\, 86)\; font-family:sf optimized\,system-ui\,-apple-system\,system-ui\,.sfnstext-regular\,sans-serif\; font-size:14px">Our discussion with include:</span><br>\n<span style="color:rgb(75\, 79\, 86)\; font-family:sf optimized\,system-ui\,-apple-system\,system-ui\,.sfnstext-regular\,sans-serif\; font-size:14px">-How your dressing experience can connect you with your best self</span><br>\n<span style="color:rgb(75\, 79\, 86)\; font-family:sf optimized\,system-ui\,-apple-system\,system-ui\,.sfnstext-regular\,sans-serif\; font-size:14px">-How to determine which items are not serving you well and which are</span><br>\n<span style="color:rgb(75\, 79\, 86)\; font-family:sf optimized\,system-ui\,-apple-system\,system-ui\,.sfnstext-regular\,sans-serif\; font-size:14px">-How to streamline the closet-purging process</span><br>\n<span style="color:rgb(75\, 79\, 86)\; font-family:sf optimized\,system-ui\,-apple-system\,system-ui\,.sfnstext-regular\,sans-serif\; font-size:14px">-H</span><span style="color:rgb(75\, 79\, 86)\; font-family:sf optimized\,system-ui\,-apple-system\,system-ui\,.sfnstext-regular\,sans-serif\; font-size:14px">ow to be sure your style suits your lifestyle and daily goals<br>\n-What to look for in future purchases<br>\n-How to shop like a pro<br>\n<br>\nClass fee: $25.00<br>\n*maximum 12 participants<br>\nTo register visit&nbsp\;<br>\n<br>\n<a href="https://squareup.com/store/simple-joy-living-llc/item/dress-with-intention-1" rel="nofollow noopener" style="color: rgb(54\, 88\, 153)\; text-decoration-line: none\; font-family: inherit\;" target="_blank"><span style="font-family:inherit">https://squareup.com/</span><span style="font-family:inherit">store/</span><span style="font-family:inherit">simple-joy-living-llc/item/</span>dress-with-intention-1</a><br>\n<br>\nor contact Lisa at 207-808-0569 or Kate at 207-450-6577</span>
LOCATION:Found\, 42 Main St.\, Kennebunk\, ME 04043
UID:e.1923.7157
SEQUENCE:3
DTSTAMP:20260425T183035Z
URL:https://chamber.gokennebunks.com/events/details/dress-with-intention-an-evening-about-closets-style-and-choices-7157
END:VEVENT

END:VCALENDAR
