BEGIN:VCALENDAR
VERSION:2.0
PRODID:-//ChamberMaster//Event Calendar 2.0//EN
METHOD:PUBLISH
X-PUBLISHED-TTL:P3D
REFRESH-INTERVAL:P3D
CALSCALE:GREGORIAN
BEGIN:VEVENT
DTSTART;VALUE=DATE:20230604
DTEND;VALUE=DATE:20230605
TRANSP:TRANSPARENT
X-MICROSOFT-CDO-ALLDAYEVENT:TRUE
SUMMARY:Dress Like a Conductor Day
DESCRIPTION:Youth ages 16 and under who dress like a conductor get free admission today!
X-ALT-DESC;FMTTYPE=text/html:<span style="font-family:merriweather\,georgia\,times new roman\,times\,serif\; font-size:16px">Youth ages 16 and under who dress like a conductor get free admission today!</span>
LOCATION:Seashore Trolley Museum 195 Log Cabin Road Kennebunkport\, ME 04046
UID:e.1923.19054
SEQUENCE:3
DTSTAMP:20260422T074721Z
URL:https://chamber.gokennebunks.com/events/details/dress-like-a-conductor-day-19054
END:VEVENT

END:VCALENDAR
