BEGIN:VCALENDAR
VERSION:2.0
PRODID:-//ChamberMaster//Event Calendar 2.0//EN
METHOD:PUBLISH
X-PUBLISHED-TTL:P3D
REFRESH-INTERVAL:P3D
CALSCALE:GREGORIAN
BEGIN:VEVENT
DTSTART:20240805T130000Z
DTEND:20240809T160000Z
X-MICROSOFT-CDO-ALLDAYEVENT:FALSE
SUMMARY:DRAWING CLUB
DESCRIPTION:9:00AM-12:00PM\n\nMONDAY-FRIDAY\, AUGUST 5-9 (5 days)\n\nGrades 6-8\n\nInstructor: Leah Payne\n\nIn this camp\, junior illustrators will bring their skills to the next level. We will experiment with many fun drawing games and exercises to spark creativity. Scribble drawing\, sketching\, character drawing\, still life and more! Students will use what they learn from these activities to create their own collection of work. The instructor will guide students to make works of art to be proud of using a variety of techniques and media.\n\nMax attendees: 10\n\n\n\nREGISTER HERE: https://rivertree.app.neoncrm.com/np/clients/rivertree/event.jsp?event=12450&\n\n\n\nMembers: $235 | Non-Members: $260 (all supplies included)
X-ALT-DESC;FMTTYPE=text/html:<p><strong>9:00AM-12:00PM<br />\nMONDAY-FRIDAY\, AUGUST 5-9 (5 days)<br />\nGrades 6-8</strong><br />\n<em>Instructor:&nbsp\;Leah Payne</em></p>\n\n<p>In this camp\, junior illustrators will bring their skills to the next level. We will experiment with many fun drawing games and exercises to spark creativity. Scribble drawing\, sketching\, character drawing\, still life and more! Students will use what they learn from these activities to create their own collection of work. The instructor will guide students to make works of art to be proud of using a variety of techniques and media.</p>\n\n<p>Max attendees: 10<br />\n<br />\nREGISTER HERE:&nbsp\;<a href="https://rivertree.app.neoncrm.com/np/clients/rivertree/event.jsp?event=12450&amp\;">https://rivertree.app.neoncrm.com/np/clients/rivertree/event.jsp?event=12450&amp\;</a><br />\n<br />\nMembers: $235 | Non-Members: $260 (all supplies included)</p>\n
LOCATION:River Tree Arts\, 35 Western Ave.\, Kennebunk\, Maine
UID:e.1923.24529
SEQUENCE:3
DTSTAMP:20260421T124020Z
URL:https://chamber.gokennebunks.com/events/details/drawing-club-24529
END:VEVENT

END:VCALENDAR
