BEGIN:VCALENDAR
VERSION:2.0
PRODID:-//ChamberMaster//Event Calendar 2.0//EN
METHOD:PUBLISH
X-PUBLISHED-TTL:P3D
REFRESH-INTERVAL:P3D
CALSCALE:GREGORIAN
BEGIN:VEVENT
DTSTART:20230824T230000Z
DTEND:20230825T003000Z
X-MICROSOFT-CDO-ALLDAYEVENT:FALSE
SUMMARY:Drag Bingo with Curbside Queens
DESCRIPTION:NOTE: Only persons 16 or older can enter the theater (ID may be requested)   $5 per game\, 5 games total   Cash prizes for winners!   Payment only accepted at the door before the event.
X-ALT-DESC;FMTTYPE=text/html:NOTE: Only persons 16 or older can enter the theater (ID may be requested) &bull\; $5 per game\, 5 games total &bull\; Cash prizes for winners! &bull\; Payment only accepted at the door before the event.
LOCATION:205 Main Street Biddeford\, ME 04005
UID:e.1923.22422
SEQUENCE:3
DTSTAMP:20260422T034422Z
URL:https://chamber.gokennebunks.com/events/details/drag-bingo-with-curbside-queens-22422
END:VEVENT

END:VCALENDAR
