BEGIN:VCALENDAR
VERSION:2.0
PRODID:-//ChamberMaster//Event Calendar 2.0//EN
METHOD:PUBLISH
X-PUBLISHED-TTL:P3D
REFRESH-INTERVAL:P3D
CALSCALE:GREGORIAN
BEGIN:VEVENT
DTSTART:20250613T210000Z
DTEND:20250613T230000Z
X-MICROSOFT-CDO-ALLDAYEVENT:FALSE
SUMMARY:Downtown Kennebunk Art Walk
DESCRIPTION:Join us on the second Friday of each month in the summer months for a night of live music\, local artists\, restaurant specials and interactive events. Let's celebrate Downtown! Hosted by the Kennebunk-Kennebunkport-Arundel Chamber of Commerce and the Town of Kennebunk economic development committee. *artists must be registered to participate.
X-ALT-DESC;FMTTYPE=text/html:<span style="color: rgb(116\, 116\, 116)\; font-family: &quot\;PT Sans&quot\;\, sans-serif\; font-size: 28px\;">Join us on the second Friday of each month in the summer months for a night of live music\, local artists\, restaurant specials and interactive events. Let&#39\;s celebrate Downtown! Hosted by the Kennebunk-Kennebunkport-Arundel Chamber of Commerce and the Town of Kennebunk economic development committee. *artists must be registered to participate.</span>
LOCATION:Main Street Kennebunk\, between Duffy's Tavern and The Brick Store Museum
UID:e.1923.35083
SEQUENCE:3
DTSTAMP:20260421T061210Z
URL:https://chamber.gokennebunks.com/events/details/downtown-kennebunk-art-walk-35083
END:VEVENT

END:VCALENDAR
