BEGIN:VCALENDAR
VERSION:2.0
PRODID:-//ChamberMaster//Event Calendar 2.0//EN
METHOD:PUBLISH
X-PUBLISHED-TTL:P3D
REFRESH-INTERVAL:P3D
CALSCALE:GREGORIAN
BEGIN:VEVENT
DTSTART:20240614T210000Z
DTEND:20240614T230000Z
X-MICROSOFT-CDO-ALLDAYEVENT:FALSE
SUMMARY:Downtown Art Walk
DESCRIPTION:Join us on our first Downtown Kennebunk Art Walk! Live music\, local artists\, food trucks\, and local drink specials.
X-ALT-DESC;FMTTYPE=text/html:Join us on our first Downtown Kennebunk Art Walk! Live music\, local artists\, food trucks\, and local drink specials.
LOCATION:Main Street Kennebunk
UID:e.1923.25310
SEQUENCE:3
DTSTAMP:20260421T140011Z
URL:https://chamber.gokennebunks.com/events/details/downtown-art-walk-25310
END:VEVENT

END:VCALENDAR
