BEGIN:VCALENDAR
VERSION:2.0
PRODID:-//ChamberMaster//Event Calendar 2.0//EN
METHOD:PUBLISH
X-PUBLISHED-TTL:P3D
REFRESH-INTERVAL:P3D
CALSCALE:GREGORIAN
BEGIN:VEVENT
DTSTART:20170818T220000Z
DTEND:20170819T020000Z
X-MICROSOFT-CDO-ALLDAYEVENT:FALSE
SUMMARY:Downeast Meets Dixie at Seashore Trolley Museum
DESCRIPTION:Ding\, ding\, ding will go the bell at "Downeast Meets Dixie" \, Seashore Trolley Museum's 2017 dinner gala.\n\nAn evening of food\, drink\, music and merriment goes over the top on the fun scale when it includes riding\, imbibing\, and celebrating in beautiful antique trolleys.\n\nDowneast Meets Dixie guests will lounge\, ride\, and imbibe in vintage trolleys from New England and Southern cities.  The band Gumption Junction will perform Sea Shanties and Bluegrass.  A Tap Snap photo booth will ensure that everyone leaves with great photos.\n\nThe cash bar will feature two signature cocktails:  "the Downeast" and "the Dixie".\n\nA full dinner of New England and Southern favorites will  include chowder\,  BBQ\, sides\, salads and desserts\, catered by the Chef & the Gardener.\n\nCostumes are encouraged   and there will be a costume parade! (Think Sea Captains\, Mates\, Wenches\, fishermen\, or maybe a country casual look)\n\nThe raffle table will include gift certificates\, fine crafts\, Amtrak tickets\, and more.\n\nA limited number of tickets will be sold\, and they must be reserved in advance. Dinner is included in the ticket price of $55/person. \n\nYou can reserve tickets at trolleymuseum.org or by calling 207-967-2800\, ext 111 or 101\, or email: director@neerhs.org\n\nFor additional details call 207-967-2800\, ext 101\, or email director@neerhs.org.
X-ALT-DESC;FMTTYPE=text/html:<span style="font-family:arial\,sans-serif">Ding\, ding\, ding will go the bell at &ldquo\;Downeast Meets Dixie&rdquo\; \, Seashore Trolley Museum&rsquo\;s 2017 dinner gala.</span><br />\n<span style="font-family:arial\,sans-serif">An evening of food\, drink\, music and merriment goes over the top on the fun scale when it includes riding\, imbibing\, and celebrating in beautiful antique trolleys.</span><br />\n<span style="font-family:arial\,sans-serif">Downeast Meets Dixie guests will lounge\, ride\, and imbibe in vintage trolleys from New England and Southern cities.&nbsp\; The band Gumption Junction will perform Sea Shanties and Bluegrass.&nbsp\; A Tap Snap photo booth will ensure that everyone leaves with great photos.</span><br />\n<span style="font-family:arial\,sans-serif">The cash bar will feature two signature cocktails:&nbsp\; &ldquo\;the Downeast&rdquo\; and &ldquo\;the Dixie&rdquo\;.</span><br />\n<span style="font-family:arial\,sans-serif">A full dinner of New England and Southern favorites will &nbsp\;include chowder\, &nbsp\;BBQ\, sides\, salads and desserts\, catered by the Chef &amp\; the Gardener.</span><br />\n<span style="font-family:arial\,sans-serif">Costumes are encouraged &ndash\; and there will be a costume parade! (Think Sea Captains\, Mates\, Wenches\, fishermen\, or maybe a country casual look)</span><br />\n<span style="font-family:arial\,sans-serif">The raffle table will include gift certificates\, fine crafts\, Amtrak tickets\, and more.</span><br />\n<span style="font-family:arial\,sans-serif">A limited number of tickets will be sold\, and they must be reserved in advance. Dinner is included in the ticket price of $55/person. </span><br />\n<span style="font-family:arial\,sans-serif">You can reserve tickets at trolleymuseum.org or by calling 207-967-2800\, ext 111 or 101\, or email:&nbsp\;<a href="mailto:director@neerhs.org"><span style="color:windowtext">director@neerhs.org</span></a></span><br />\n<span style="font-family:arial\,sans-serif">For additional details call 207-967-2800\, ext 101\, or email director@neerhs.org.</span>
LOCATION:Seashore Trolley Museum\, 195 Log Cabin Rd\, Kennebunkport
UID:e.1923.5903
SEQUENCE:3
DTSTAMP:20260426T035715Z
URL:https://chamber.gokennebunks.com/events/details/downeast-meets-dixie-at-seashore-trolley-museum-5903
END:VEVENT

END:VCALENDAR
