BEGIN:VCALENDAR
VERSION:2.0
PRODID:-//ChamberMaster//Event Calendar 2.0//EN
METHOD:PUBLISH
X-PUBLISHED-TTL:P3D
REFRESH-INTERVAL:P3D
CALSCALE:GREGORIAN
BEGIN:VEVENT
DTSTART:20250220T223000Z
DTEND:20250221T000000Z
X-MICROSOFT-CDO-ALLDAYEVENT:FALSE
SUMMARY:DOT PAINTING ON GLASS
DESCRIPTION:Thursday\, February 20 at 5:30 PM. Dot Painting on Glass. Resident artist Rayanne Coombs will demonstrate how to "paint the glass red" using special dotting tools. Class size is limited\, so please call the Library to register at 207-967-2778. All supplies will be provided\, and light refreshments will be served. The Louis T. Graves Memorial Public Library is located at 18 Maine Street\, Kennebunkport. For further information\, please call 967-2778 or visit our website at www.graveslibrary.org.
X-ALT-DESC;FMTTYPE=text/html:<span style="font-family:arial\,sans-serif"><span style="font-size:12.0pt">Thursday\, February 20 at 5:30 PM. <strong>Dot Painting on Glass</strong>. Resident artist Rayanne Coombs will demonstrate how to &ldquo\;paint the glass red&rdquo\; using special dotting tools. Class size is limited\, so please call the Library to register at 207-967-2778. All supplies will be provided\, and light refreshments will be served. The Louis T. Graves Memorial Public Library is located at 18 Maine Street\, Kennebunkport. For further information\, please call 967-2778 or visit our website at www.graveslibrary.org.</span></span>
LOCATION:The Louis T. Graves Memorial Public Library is located at 18 Maine Street\, Kennebunkport. For further information\, please call 967-2778 or visit our website at www.graveslibrary.org.
UID:e.1923.33102
SEQUENCE:3
DTSTAMP:20260420T230217Z
URL:https://chamber.gokennebunks.com/events/details/dot-painting-on-glass-33102
END:VEVENT

END:VCALENDAR
