BEGIN:VCALENDAR
VERSION:2.0
PRODID:-//ChamberMaster//Event Calendar 2.0//EN
METHOD:PUBLISH
X-PUBLISHED-TTL:P3D
REFRESH-INTERVAL:P3D
CALSCALE:GREGORIAN
BEGIN:VEVENT
DTSTART;VALUE=DATE:20170812
DTEND;VALUE=DATE:20170814
TRANSP:TRANSPARENT
X-MICROSOFT-CDO-ALLDAYEVENT:TRUE
SUMMARY:Disney's The Lion King\, Jr.
DESCRIPTION:Simba the lion cub just can't wait to be king in the Ogunquit Playhouse production of Disney's The Lion King\, Jr. The African savannah comes to joyous life on stage with Simba\, Rafiki\, Timon\, Pumbaa\, and all your favorite characters as they journey from Pride Rock to the jungle and back again in this inspiring\, coming-of-age tale. Join Simba and the gang as they perform songs from the beloved film including "Hakuna Matata\," "Can You Feel the Love Tonight\," and "I Just Can't Wait to be King." This production is ideal for kids of all ages\, so be sure to bring the whole family out to experience this exciting adventure in Africa!
X-ALT-DESC;FMTTYPE=text/html:Simba the lion cub just can&rsquo\;t wait to be king in the Ogunquit Playhouse production of Disney&#39\;s The Lion King\, Jr. The African savannah comes to joyous life on stage with Simba\, Rafiki\, Timon\, Pumbaa\, and all your favorite characters as they journey from Pride Rock to the jungle and back again in this inspiring\, coming-of-age tale. Join Simba and the gang as they perform songs from the beloved film including &ldquo\;Hakuna Matata\,&rdquo\; &ldquo\;Can You Feel the Love Tonight\,&rdquo\; and &ldquo\;I Just Can&rsquo\;t Wait to be King.&rdquo\; This production is ideal for kids of all ages\, so be sure to bring the whole family out to experience this exciting adventure in Africa!
LOCATION:The Ogunquit Playhouse\, 10 Main Street (Rte 1)\, Ogunquit\, Maine
UID:e.1923.5887
SEQUENCE:3
DTSTAMP:20260426T035727Z
URL:https://chamber.gokennebunks.com/events/details/disney-s-the-lion-king-jr-08-12-2017-5887
END:VEVENT

END:VCALENDAR
