BEGIN:VCALENDAR
VERSION:2.0
PRODID:-//ChamberMaster//Event Calendar 2.0//EN
METHOD:PUBLISH
X-PUBLISHED-TTL:P3D
REFRESH-INTERVAL:P3D
CALSCALE:GREGORIAN
BEGIN:VEVENT
DTSTART:20180630T140000Z
DTEND:20180701T170000Z
X-MICROSOFT-CDO-ALLDAYEVENT:FALSE
SUMMARY:Disney's Sleeping Beauty\, Kids
DESCRIPTION:It's princess Aurora's sixteenth birthday\, and Flora\, Fauna and Merryweather must use their fairy magic to save her from the spell of evil sorceress Maleficent! This classic fairytale comes to life with songs from the beloved Disney film\, including "Once Upon a Dream\," along with fun new songs "Maleficent!" and "A Little Magic Now."\n\nOur Children's Theatre campers spend one to two weeks learning everything from acting\, singing and choreography to understanding lighting\, sound cues and blocking movements on stage before performing on the Playhouse's main stage with sets and costumes by our production team!
X-ALT-DESC;FMTTYPE=text/html:<span style="font-family:futura-pt\; font-size:16px">It&#39\;s princess Aurora&#39\;s sixteenth birthday\, and Flora\, Fauna and Merryweather must use their fairy magic to save her from the spell of evil sorceress Maleficent! This classic fairytale comes to life with songs from the beloved Disney film\, including &quot\;Once Upon a Dream\,&quot\; along with fun new songs &quot\;Maleficent!&quot\; and &quot\;A Little Magic Now.&quot\;<br />\nOur Children&#39\;s Theatre campers spend one to two weeks learning everything from acting\, singing and choreography to understanding lighting\, sound cues and blocking movements on stage before performing on the Playhouse&#39\;s main stage with sets and costumes by our production team!</span>
LOCATION:10 Main St (Rte 1) Ogunquit\, ME 03907
UID:e.1923.9906
SEQUENCE:3
DTSTAMP:20260425T132741Z
URL:https://chamber.gokennebunks.com/events/details/disney-s-sleeping-beauty-kids-9906
END:VEVENT

END:VCALENDAR
