BEGIN:VCALENDAR
VERSION:2.0
PRODID:-//ChamberMaster//Event Calendar 2.0//EN
METHOD:PUBLISH
X-PUBLISHED-TTL:P3D
REFRESH-INTERVAL:P3D
CALSCALE:GREGORIAN
BEGIN:VEVENT
DTSTART:20250628T133000Z
DTEND:20250629T203000Z
X-MICROSOFT-CDO-ALLDAYEVENT:FALSE
SUMMARY:Dino Trolley!
DESCRIPTION:Join Seashore Trolley Museum in beautiful Kennebunkport\, Maine for Dino Trolley on Saturday/Sunday June 28 & 29 and August 9 & 10. The event will be held rain or shine (but every outdoor activity except for one will be relocated indoors if needed for comfort due to excess heat or rain).\n\nRides on the Dino Trolley depart from our Visitors Center at 9:45AM\, 10:30AM\, 11:15AM\, 12:00PM\, 12:45PM\, 1:30PM\, 2:15PM and 3:00PM. Back at our Visitors Center and around our main campus we will have fun activities to enjoy!\n\nTo spread out our ticket sales\, the starting time on your ticket is your Dino Trolley departure time. Be sure to arrive at least 15 minutes prior to make sure your group is ready to board. You are welcome to come earlier or stay later to enjoy the activities on campus! The museum will be open from 9:30AM-4:30PM.\n\nDino Trolleys will be decked out with safari/jungle themed decorations so guests and families can get in the mood!\n\nActivities include:\n\nDino Quest! Search for colorful dinosaurs along your trolley ride. Thirty dinosaur silhouettes will be hidden in the woods along our railway\; see if you can spot them as the trolley goes by! Our trolley crew will slow down to give you time to spot them\, as well as narrate the dino quest. These are not robotic\, non-moving dinosaurs. Please see pictures below so you know what to expect during this activity.\n\nDino Big Dig! Search for dinosaur bones hidden in Seashore's very own archeological dig site! (it's a big sand box\, big enough for social distancing. This is the activity we won't be able to move indoors if it rains\, but it will be in a shaded area).\n\nDino Egg Hunt! Search for dinosaur eggs across campus! Redeem your eggs in the "craft room" for a prize! This is an ongoing activity and eggs will be replenished multiple times each day.\n\nLet's Explore Dinosaurs! A fun scavenger hunt across campus\, learn more about different types of dinosaurs and stamp your dino passport along the way. Families with a fully stamped dino passport get to enter for a chance to win a free 2025 Family Membership to Seashore Trolley Museum!\n\nFrozen Fossil! Snow cones with a dino gummy surprise at the bottom!\n\nCraft Room! Make it at the event or take it home with you!\n\nPhoto Station! Take a photo with your group or family to remember the day at our dino-themed photo station.\n\nEnjoy our Museum! Explore three carhouses filled with beautiful\, restored trolleys and several other precious transit artifacts around our outdoor campus!\n\nLunch options will be available\; either a food truck or museum volunteer-led! Check back closer to the event date for the details.\n\nTrolley Museum Admission to Dino Trolley will be:\n\nAdmission for ages 3-99+: $15.00\n\nKids Under 3 Free\n\nAdmission for Museum Members is 50% off! Email director@trolleymuseum.org and we will send you the code within 24 hours.\n\nFor questions\, please email events@trolleymuseum.org. Thank you for supporting our event!
X-ALT-DESC;FMTTYPE=text/html:<p><span style="color:rgb(0\, 0\, 0)">Join Seashore Trolley Museum in beautiful Kennebunkport\, Maine for Dino Trolley on Saturday/Sunday June 28 &amp\; 29 and August 9 &amp\; 10. The event will be held rain or shine (but every outdoor activity except for one will be relocated indoors if needed for comfort due to excess heat or rain).</span></p>\n\n<p><span style="color:rgb(0\, 0\, 0)">Rides on the Dino Trolley depart from our Visitors Center at 9:45AM\, 10:30AM\, 11:15AM\, 12:00PM\, 12:45PM\, 1:30PM\, 2:15PM and 3:00PM. Back at our Visitors Center and around our main campus we will have fun activities to enjoy!</span></p>\n\n<p><span style="color:rgb(0\, 0\, 0)">To spread out our ticket sales\, the starting time on your ticket is your Dino Trolley departure time. Be sure to arrive at least 15 minutes prior to make sure your group is ready to board. You are welcome to come earlier or stay later to enjoy the activities on campus! The museum will be open from 9:30AM-4:30PM.</span></p>\n\n<p><span style="color:rgb(0\, 0\, 0)">Dino Trolleys will be decked out with safari/jungle themed decorations so guests and families can get in the mood!</span></p>\n\n<p><span style="color:rgb(0\, 0\, 0)"><strong>Activities include:</strong></span></p>\n\n<p><span style="color:rgb(0\, 0\, 0)"><strong>Dino Quest!&nbsp\;</strong>Search for colorful dinosaurs along your trolley ride. Thirty dinosaur silhouettes will be hidden in the woods along our railway\; see if you can spot them as the trolley goes by! Our trolley crew will slow down to give you time to spot them\, as well as narrate the dino quest. These are not robotic\, non-moving dinosaurs. Please see pictures below so you know what to expect during this activity.</span></p>\n\n<p><span style="color:rgb(0\, 0\, 0)"><strong>Dino Big Dig!&nbsp\;</strong>Search for dinosaur bones hidden in Seashore&rsquo\;s very own archeological dig site! (it&rsquo\;s a big sand box\, big enough for social distancing. This is the activity we won&rsquo\;t be able to move indoors if it rains\, but it will be in a shaded area).</span></p>\n\n<p><span style="color:rgb(0\, 0\, 0)"><strong>Dino Egg Hunt!&nbsp\;</strong>Search for dinosaur eggs across campus! Redeem your eggs in the &ldquo\;craft room&rdquo\; for a prize! This is an ongoing activity and eggs will be replenished multiple times each day.</span></p>\n\n<p><span style="color:rgb(0\, 0\, 0)"><strong>Let&rsquo\;s Explore Dinosaurs!&nbsp\;</strong>A fun scavenger hunt across campus\, learn more about different types of dinosaurs and stamp your dino passport along the way. Families with a fully stamped dino passport get to enter for a chance to win a free 2025 Family Membership to Seashore Trolley Museum!</span></p>\n\n<p><span style="color:rgb(0\, 0\, 0)"><strong>Frozen Fossil!</strong>&nbsp\;Snow cones with a dino gummy surprise at the bottom!</span></p>\n\n<p><span style="color:rgb(0\, 0\, 0)"><strong>Craft Room!</strong>&nbsp\;Make it at the event or take it home with you!</span></p>\n\n<p><span style="color:rgb(0\, 0\, 0)"><strong>Photo Station!</strong>&nbsp\;Take a photo with your group or family to remember the day at our dino-themed photo station.</span></p>\n\n<p><span style="color:rgb(0\, 0\, 0)"><strong>Enjoy our Museum!&nbsp\;</strong>Explore three carhouses filled with beautiful\, restored trolleys and several other precious transit artifacts around our outdoor campus!</span></p>\n\n<p><span style="color:rgb(0\, 0\, 0)">Lunch options will be available\; either a food truck or museum volunteer-led! Check back closer to the event date for the details.</span></p>\n\n<p><span style="color:rgb(0\, 0\, 0)">Trolley Museum Admission to Dino Trolley will be:</span></p>\n\n<p><span style="color:rgb(0\, 0\, 0)">Admission for ages 3-99+: $15.00</span></p>\n\n<p><span style="color:rgb(0\, 0\, 0)">Kids Under 3 Free</span></p>\n\n<p><span style="color:rgb(0\, 0\, 0)"><strong>Admission for Museum Members is 50% off!&nbsp\;</strong>Email&nbsp\;director@trolleymuseum.org&nbsp\;and we will send you the code within 24 hours.</span></p>\n\n<p><span style="color:rgb(0\, 0\, 0)">For questions\, please email&nbsp\;events@trolleymuseum.org. Thank you for supporting our event!</span></p>\n
LOCATION:Seashore Trolley Museum 195 Log Cabin Road Kennebunkport\, ME 04046
UID:e.1923.33946
SEQUENCE:3
DTSTAMP:20260421T061732Z
URL:https://chamber.gokennebunks.com/events/details/dino-trolley-06-28-2025-33946
END:VEVENT

END:VCALENDAR
