BEGIN:VCALENDAR
VERSION:2.0
PRODID:-//ChamberMaster//Event Calendar 2.0//EN
METHOD:PUBLISH
X-PUBLISHED-TTL:P3D
REFRESH-INTERVAL:P3D
CALSCALE:GREGORIAN
BEGIN:VEVENT
DTSTART:20240810T133000Z
DTEND:20240811T203000Z
X-MICROSOFT-CDO-ALLDAYEVENT:FALSE
SUMMARY:Dino Days with Revolution Rail
DESCRIPTION:Join Seashore Trolley Museum for our Dino Trolley event. On August 10th & 11th we will have dinosaur-themed activities and trolley rides on our heritage railway. Activities include: a dino quest\, egg hunt\, dino dig and crafts. Admission is $15.00 for ages 3 and up+. Kids under 3 have free entry. Book now at https://www.revrail.com/maine-railbiking
X-ALT-DESC;FMTTYPE=text/html:Join Seashore Trolley Museum for our Dino Trolley event. On August 10th &amp\; 11th we will have dinosaur-themed activities and trolley rides on our heritage railway. Activities include: a dino quest\, egg hunt\, dino dig and crafts. Admission is $15.00 for ages 3 and up+. Kids under 3 have free entry. Book now at https://www.revrail.com/maine-railbiking
LOCATION:Seashore Trolley Museum\, Visitors Center
UID:e.1923.29798
SEQUENCE:3
DTSTAMP:20260421T124136Z
URL:https://chamber.gokennebunks.com/events/details/dino-days-with-revolution-rail-29798
END:VEVENT

END:VCALENDAR
