BEGIN:VCALENDAR
VERSION:2.0
PRODID:-//ChamberMaster//Event Calendar 2.0//EN
METHOD:PUBLISH
X-PUBLISHED-TTL:P3D
REFRESH-INTERVAL:P3D
CALSCALE:GREGORIAN
BEGIN:VEVENT
DTSTART:20250731T220000Z
DTEND:20250801T000000Z
X-MICROSOFT-CDO-ALLDAYEVENT:FALSE
SUMMARY:Dinner with a Purpose - Featuring our Local Farms
DESCRIPTION:July 31st 6 to 8pm\n\nIndulge in our 3-course Prix Fixe menu\, meticulously prepared by our chefs to showcase the freshest seasonal ingredients from local farms.\n\nMenu includes:\n\nBrioche Bread\n\nwith Salted Butter\n\n \n\nGarden Seasonal Greens\n\nLocal Feta Cheese\, Vine Ripe Tomato\, Green Goddess Dressing\n\nNorumbega Oysters on the Half Shell\n\nCocktail Sauce\n\nHaddock Chowder\n\nPotato\, Onion Broth\, Herbs\n\n \n\nShrimp Risotto\n\nOcean Foam\n\nFlank Steak\n\nGratin Potato\, Local Chard\, Red Wine Shallot Sauce\n\nRicotta Gnocchi\n\nSummer Vegetables\, Parmesan Sauce\n\n \n\nBlueberry Crumble\n\nVanilla Ice Cream\n\nChocolate Mousse\n\nSummer Berry Compote\, Chocolate Bark\n\nFresh Cheese Selection\n\nFresh Fruits\, Crackers\n\n\n\nAs always\, proceeds from this event and all additional donations will go towards preparing and delivering delicious and nutritious meals to our Cancer Warriors. We are grateful for your patronage
X-ALT-DESC;FMTTYPE=text/html:<p><strong><em>July 31st 6 to 8pm</em></strong></p>\n\n<p>Indulge in our 3-course Prix Fixe menu\, meticulously prepared by our chefs to showcase the freshest <strong>seasonal ingredients from local farms</strong>.</p>\n\n<p>Menu includes:</p>\n\n<p><strong>Brioche Bread</strong></p>\n\n<p><em>with Salted Butter</em></p>\n\n<p>&nbsp\;</p>\n\n<p><strong>Garden Seasonal Greens</strong></p>\n\n<p><em>Local Feta Cheese\, Vine Ripe Tomato\, Green Goddess Dressing</em></p>\n\n<p><strong>Norumbega Oysters on the Half Shell</strong></p>\n\n<p><em>Cocktail Sauce</em></p>\n\n<p><strong>Haddock Chowder</strong></p>\n\n<p><em>Potato\, Onion Broth\, Herbs</em></p>\n\n<p>&nbsp\;</p>\n\n<p><strong>Shrimp Risotto</strong></p>\n\n<p><em>Ocean Foam</em></p>\n\n<p><strong>Flank Steak</strong></p>\n\n<p><em>Gratin Potato\, Local Chard\, Red Wine Shallot Sauce</em></p>\n\n<p><strong>Ricotta Gnocchi</strong></p>\n\n<p><em>Summer Vegetables\, Parmesan Sauce</em></p>\n\n<p>&nbsp\;</p>\n\n<p><strong>Blueberry Crumble</strong></p>\n\n<p><em>Vanilla Ice Cream</em></p>\n\n<p><strong>Chocolate Mousse</strong></p>\n\n<p><em>Summer Berry Compote\, Chocolate Bark</em></p>\n\n<p><strong>Fresh Cheese Selection</strong></p>\n\n<p><em>Fresh Fruits\, Crackers</em><br />\n<br />\nAs always\, proceeds from this event and all additional donations will go towards preparing and delivering delicious and nutritious meals to our Cancer Warriors. We are grateful for your patronage</p>\n\n<p>&nbsp\;</p>\n
LOCATION:
UID:e.1923.37669
SEQUENCE:3
DTSTAMP:20260421T073726Z
URL:https://chamber.gokennebunks.com/events/details/dinner-with-a-purpose-featuring-our-local-farms-37669
END:VEVENT

END:VCALENDAR
