BEGIN:VCALENDAR
VERSION:2.0
PRODID:-//ChamberMaster//Event Calendar 2.0//EN
METHOD:PUBLISH
X-PUBLISHED-TTL:P3D
REFRESH-INTERVAL:P3D
CALSCALE:GREGORIAN
BEGIN:VEVENT
DTSTART:20180710T000000Z
DTEND:20180710T020000Z
X-MICROSOFT-CDO-ALLDAYEVENT:FALSE
SUMMARY:Deep Blue C Studio Orchestra
DESCRIPTION:The Deep Blue C Studio Orchestra is 17 pieces strong with strings\, horns\, several vocalists and more! After filling theaters with their Burt Bacharach Tribute Show\, the DBCSO is now introducing their new show\, The Composers and Their Songs From Bernstein to Lennon and McCartney!
X-ALT-DESC;FMTTYPE=text/html:The Deep Blue C Studio Orchestra is 17 pieces strong with strings\, horns\, several vocalists and more! After filling theaters with their Burt Bacharach Tribute Show\, the DBCSO is now introducing their new show\, The Composers and Their Songs From Bernstein to Lennon and McCartney!
LOCATION:Vinegar Hill Music Theatre 53 Old Post Rd. Arundel\, ME 04046
UID:e.1923.7185
SEQUENCE:3
DTSTAMP:20260425T132545Z
URL:https://chamber.gokennebunks.com/events/details/deep-blue-c-studio-orchestra-7185
END:VEVENT

END:VCALENDAR
