BEGIN:VCALENDAR
VERSION:2.0
PRODID:-//ChamberMaster//Event Calendar 2.0//EN
METHOD:PUBLISH
X-PUBLISHED-TTL:P3D
REFRESH-INTERVAL:P3D
CALSCALE:GREGORIAN
BEGIN:VEVENT
DTSTART:20240607T000000Z
DTEND:20240607T023000Z
X-MICROSOFT-CDO-ALLDAYEVENT:FALSE
SUMMARY:Deep Blue "C" Studio Orchestra
DESCRIPTION:Vinegar Hill Music Theatre presents Deep Blue "C" Studio Orchestra\n\nFood Trucks 6pm | Doors 7pm | Show 8pm\n\nAll Ages\n\n \n\nJoin us for food and drinks before the show in our outdoor garden starting at 6pm!\n\nThe night's food truck is Terra Firma! Serving farm-to-table fare including smash burgers burgers\, kabobs\, and more!\n\n \n\nThe summer just got better!\n\nThe DBCSO will be performing some of your favorite summer romance classics\, including songs like "Lazy\, Hazy\, Crazy Days of Summer\," "You'll Never Find Another Love Like Mine\," "Under the Boardwalk\," "Theme from 'A Summer Place\,'" "Dancing in the Street\," and more! The Deep Blue "C" Studio Orchestra is known for its high-level musicianship and is lead by international touring artist\, Dave "Doc" Vose\, a Yamaha clinician and published music composer who is best known as a long-time professor at Boston's Berklee College of Music. The orchestra consists of a string section\, a horn section\, a full rhythm section\, and four amazing vocalists\, including local talent\, Lisa Mills.\n\nVose says\, "The orchestra focuses on two things\, high quality performance and entertaining its audiences." For eight years\, audiences have totally appreciated the DBCSO approach!
X-ALT-DESC;FMTTYPE=text/html:<h5>Vinegar Hill Music Theatre presents Deep Blue &ldquo\;C&rdquo\; Studio Orchestra</h5>\n\n<h5><strong>Food Trucks 6pm&nbsp\;|&nbsp\;Doors 7pm | Show 8pm</strong></h5>\n\n<h5>All Ages</h5>\n\n<p>&nbsp\;</p>\n\n<p>Join us for food and drinks before the show in our outdoor garden starting at&nbsp\;6pm!</p>\n\n<p>The night&rsquo\;s food truck is&nbsp\;<a href="https://www.instagram.com/terrafirmafoodtruck/" rel="noopener noreferrer" style="box-sizing: border-box\; color: rgb(251\, 74\, 40)\; text-decoration-line: none\; background-color: transparent\; box-shadow: none\;" target="_blank">Terra Firma!</a>&nbsp\;Serving farm-to-table fare including smash burgers burgers\, kabobs\, and more!</p>\n\n<p>&nbsp\;</p>\n\n<p>The summer just got better!</p>\n\n<p>The DBCSO will be performing some of your favorite summer romance classics\, including songs like &ldquo\;Lazy\, Hazy\, Crazy Days of Summer\,&rdquo\; &ldquo\;You&rsquo\;ll Never Find Another Love Like Mine\,&rdquo\; &ldquo\;Under the Boardwalk\,&rdquo\; &ldquo\;Theme from &lsquo\;A Summer Place\,&#39\;&rdquo\; &ldquo\;Dancing in the Street\,&rdquo\; and more! The Deep Blue &ldquo\;C&rdquo\; Studio Orchestra is known for its high-level musicianship and is lead by international touring artist\, Dave &ldquo\;Doc&rdquo\; Vose\, a Yamaha clinician and published music composer who is best known as a long-time professor at Boston&rsquo\;s Berklee College of Music. The orchestra consists of a string section\, a horn section\, a full rhythm section\, and four amazing vocalists\, including local talent\, Lisa Mills.</p>\n\n<p>Vose says\, &ldquo\;The orchestra focuses on two things\, high quality performance and entertaining its audiences.&rdquo\; For eight years\, audiences have totally appreciated the DBCSO approach!</p>\n
LOCATION:Vinegar Hill Music Theatre 53 Old Post Rd. Arundel\, ME 04046
UID:e.1923.25327
SEQUENCE:3
DTSTAMP:20260421T140104Z
URL:https://chamber.gokennebunks.com/events/details/deep-blue-c-studio-orchestra-06-06-2024-25327
END:VEVENT

END:VCALENDAR
