BEGIN:VCALENDAR
VERSION:2.0
PRODID:-//ChamberMaster//Event Calendar 2.0//EN
METHOD:PUBLISH
X-PUBLISHED-TTL:P3D
REFRESH-INTERVAL:P3D
CALSCALE:GREGORIAN
BEGIN:VEVENT
DTSTART:20170910T200000Z
DTEND:20170910T210000Z
X-MICROSOFT-CDO-ALLDAYEVENT:FALSE
SUMMARY:Dedicatory Pipe Organ Concert
DESCRIPTION:On Sunday\, September 10\, at 4:00 p.m. at Kennebunk Baptist Church\, 77 Main Street in Kennebunk\, organist "Maestro" Warren King and virtuoso trumpeter Thomas Kremser will present a concert of classical and not-so-classical music to celebrate the renovation of the church pipe organ.\n\n \n\nThe pipe organ renovation was completed by organ-builder Robert Faucher of Biddeford\, including a new console.   Information regarding the particulars can be found at www.faucherorgan.com.\n\n \n\nThomas Kremser performs in concert with the Portland Brass Ensemble\, a trumpet octet\, as well as donating his talents to support the music programs of several local churches.  \n\n \n\nWarren King \, originally from Revere\, MA\, where he played tuba in his high school marching band\, has been an active church musician\, accomplished at both piano and organ\, since his teens.  Currently he is Music Director at Christ Church in Kennebunk\, Maine\, where he accompanies worship services and directs the choir.  He enjoys providing music for weddings and parties throughout Southern Maine and Eastern New Hampshire.   For more information\, see his website www.livemusicmaine.com . \n\n \n\nAdmission is by free-will donation\; any amount is gratefully received to support the missions of Kennebunk Baptist Church.
X-ALT-DESC;FMTTYPE=text/html:On Sunday\, September 10\, at 4:00 p.m. at Kennebunk Baptist Church\, 77 Main Street in Kennebunk\, organist &ldquo\;Maestro&rdquo\; Warren King and virtuoso trumpeter Thomas Kremser will present a concert of classical and not-so-classical music to celebrate the renovation of the church pipe organ.<br />\n&nbsp\;<br />\nThe pipe organ renovation was completed by organ-builder Robert Faucher of Biddeford\, including a new console.&nbsp\;&nbsp\; Information regarding the particulars can <span style="color:#292929"><span style="color:#292929">be found at www.faucherorgan.com.</span></span><br />\n&nbsp\;<br />\nThomas Kremser performs in concert with the Portland Brass Ensemble\, a trumpet octet\, as well as donating his talents to support the music programs of several local churches.&nbsp\;&nbsp\;<br />\n&nbsp\;<br />\n<span style="color:#0000ff"><span style="color:#0000ff"><span style="color:#0000ff"><span style="color:#0000ff"><span style="background-color:#FFFFFF">Warren King \, originally from Revere\, MA\, where he played tuba in his high school marching band\, has been an active church musician\, accomplished at both piano and organ\, since his teens.&nbsp\; Currently he is Music Director at Christ Church in Kennebunk\, Maine\, where he accompanies worship services and directs the choir.&nbsp\; He enjoys providing music for weddings and parties throughout Southern Maine and Eastern New Hampshire.&nbsp\;&nbsp\; For more information\, see his website</span> www.livemusicmaine.com . </span></span></span></span><br />\n&nbsp\;<br />\nAdmission is by free-will donation\; any amount is gratefully received to support the missions of Kennebunk Baptist Church.
LOCATION:Kennebunk Baptist Church 77 Main Street Kennebunk\, Maine
UID:e.1923.6932
SEQUENCE:3
DTSTAMP:20260426T022929Z
URL:https://chamber.gokennebunks.com/events/details/dedicatory-pipe-organ-concert-6932
END:VEVENT

END:VCALENDAR
