BEGIN:VCALENDAR
VERSION:2.0
PRODID:-//ChamberMaster//Event Calendar 2.0//EN
METHOD:PUBLISH
X-PUBLISHED-TTL:P3D
REFRESH-INTERVAL:P3D
CALSCALE:GREGORIAN
BEGIN:VEVENT
DTSTART:20180630T000000Z
DTEND:20180630T020000Z
X-MICROSOFT-CDO-ALLDAYEVENT:FALSE
SUMMARY:Dean Ford & The Beautiful Ones
DESCRIPTION:Vinegar Hill Music Theatre for the Maine Chapter of the Alzheimer?s Association is proud to present PURPLE RAIN FOR ALZHEIMER?S AWARENESS featuring New England?s premier PRINCE tribute band THE BEAUTIFUL ONES. Dressed 2 the 9?s\, Dean Ford embodies Prince with every fiber of his being\, giving you a show as close as you will ever get to the real thing. Not only does the band cover the ?Purple Rain? album in its entirety but included in their set are all the hits from his royal badness? catalogue between the years 1978 and 2015.
X-ALT-DESC;FMTTYPE=text/html:Vinegar Hill Music Theatre for the Maine Chapter of the Alzheimer?s Association is proud to present PURPLE RAIN FOR ALZHEIMER?S AWARENESS featuring New England?s premier PRINCE tribute band THE BEAUTIFUL ONES. Dressed 2 the 9?s\, Dean Ford embodies Prince with every fiber of his being\, giving you a show as close as you will ever get to the real thing. Not only does the band cover the ?Purple Rain? album in its entirety but included in their set are all the hits from his royal badness? catalogue between the years 1978 and 2015.
LOCATION:Vinegar Hill Music Theatre 53 Old Post Rd. Arundel\, ME 04046
UID:e.1923.7164
SEQUENCE:3
DTSTAMP:20260425T155043Z
URL:https://chamber.gokennebunks.com/events/details/dean-ford-the-beautiful-ones-7164
END:VEVENT

END:VCALENDAR
