BEGIN:VCALENDAR
VERSION:2.0
PRODID:-//ChamberMaster//Event Calendar 2.0//EN
METHOD:PUBLISH
X-PUBLISHED-TTL:P3D
REFRESH-INTERVAL:P3D
CALSCALE:GREGORIAN
BEGIN:VEVENT
DTSTART:20191010T180000Z
DTEND:20191010T190000Z
X-MICROSOFT-CDO-ALLDAYEVENT:FALSE
SUMMARY:Dawnland: Free Screening
DESCRIPTION:This EMMY-winning documentary illustrates the first government-sanctioned truth and reconciliation commission in the U.S. as it investigates the impact of Maine's child welfare practices on Native American communities.
X-ALT-DESC;FMTTYPE=text/html:This EMMY-winning documentary illustrates the first government-sanctioned truth and reconciliation commission in the U.S. as it investigates the impact of Maine&#39\;s child welfare practices on Native American communities.<br />\n<br />\n&nbsp\;
LOCATION:Brick Store Museum 117 Main Street Kennebunk\, ME 04043
UID:e.1923.13482
SEQUENCE:3
DTSTAMP:20260424T140622Z
URL:https://chamber.gokennebunks.com/events/details/dawnland-free-screening-13482
END:VEVENT

END:VCALENDAR
