BEGIN:VCALENDAR
VERSION:2.0
PRODID:-//ChamberMaster//Event Calendar 2.0//EN
METHOD:PUBLISH
X-PUBLISHED-TTL:P3D
REFRESH-INTERVAL:P3D
CALSCALE:GREGORIAN
BEGIN:VEVENT
DTSTART:20190802T220000Z
DTEND:20190802T230000Z
X-MICROSOFT-CDO-ALLDAYEVENT:FALSE
SUMMARY:Date Night Yoga
DESCRIPTION:grab your partner\, best friend or mailman and join us for a vinyasa class to kick off our month of summer lovin'. we'll do a flow styled class with a few partner poses mixed in. drinks and light refreshments will be served after class.\n\ncost: $30/couple\, members take 20% off.\n\nreserve your spot: https://clients.mindbodyonline.com/classic/ws?studioid=904135&stype=-7&sTG=25&sView=day&sLoc=0&date=08/02/19
X-ALT-DESC;FMTTYPE=text/html:<p>grab your partner\, best friend or mailman and join us for a vinyasa class to kick off our month of summer lovin&#39\;. we&rsquo\;ll do a flow styled class with a few partner poses mixed in. drinks and light refreshments will be served after class.</p>\n\n<p>cost: $30/couple\, members take 20% off.</p>\n\n<p>reserve your spot: <a href="http://grab your partner\, best friend or mailman and join us for a vinyasa class to kick off our month of summer lovin'. we?ll do a flow styled class with a few partner poses mixed in. drinks and light refreshments will be served after class.   cost: $30/couple\, members take 20% off.  reserve your spot: https://clients.mindbodyonline.com/classic/ws?studioid=904135&amp\;stype=-7&amp\;sTG=25&amp\;sView=day&amp\;sLoc=0&amp\;date=08/02/19">https://clients.mindbodyonline.com/classic/ws?studioid=904135&amp\;stype=-7&amp\;sTG=25&amp\;sView=day&amp\;sLoc=0&amp\;date=08/02/19</a></p>\n
LOCATION:The Daily Sweat 65 Portland Road Building A\, Suite D Kennebunk\, ME 04043
UID:e.1923.13399
SEQUENCE:3
DTSTAMP:20260424T165521Z
URL:https://chamber.gokennebunks.com/events/details/date-night-yoga-13399
END:VEVENT

END:VCALENDAR
