BEGIN:VCALENDAR
VERSION:2.0
PRODID:-//ChamberMaster//Event Calendar 2.0//EN
METHOD:PUBLISH
X-PUBLISHED-TTL:P3D
REFRESH-INTERVAL:P3D
CALSCALE:GREGORIAN
BEGIN:VEVENT
DTSTART:20200819T230000Z
DTEND:20200820T000000Z
X-MICROSOFT-CDO-ALLDAYEVENT:FALSE
SUMMARY:date night sweat + flow
DESCRIPTION:grab your honey\, sweetie\, best friend\, favorite person\, or cutie you think would be great at partner poses and come spend an hour or two with us. we pull out all the stops on date night: you get the chance to sweat next to one another\, try some partner poses together and refuel afterwards for as long as you want to stay out of the house. your new couple friends are waiting!
X-ALT-DESC;FMTTYPE=text/html:grab your honey\, sweetie\, best friend\, favorite person\, or cutie you think would be great at partner poses and come spend an hour or two with us. we pull out all the stops on date night: you get the chance to sweat next to one another\, try some partner poses together and refuel afterwards for as long as you want to stay out of the house. your new couple friends are waiting!
LOCATION:27 Spiller Dr
UID:e.1923.16573
SEQUENCE:3
DTSTAMP:20260420T204139Z
URL:https://chamber.gokennebunks.com/events/details/date-night-sweat-flow-08-19-2020-16573
END:VEVENT

END:VCALENDAR
