BEGIN:VCALENDAR
VERSION:2.0
PRODID:-//ChamberMaster//Event Calendar 2.0//EN
METHOD:PUBLISH
X-PUBLISHED-TTL:P3D
REFRESH-INTERVAL:P3D
CALSCALE:GREGORIAN
BEGIN:VEVENT
DTSTART:20190913T220000Z
DTEND:20190913T230000Z
X-MICROSOFT-CDO-ALLDAYEVENT:FALSE
SUMMARY:Date Night Sweat and Flow
DESCRIPTION:you loved it so much\, we're bringing it back! grab your partner and join us for a sweat + flow class this september as we reset post-first day of school and head into fall. we'll have drinks and light refreshments after class\, and yes\, we're begging our neighbor to make those brownies again.
X-ALT-DESC;FMTTYPE=text/html:you loved it so much\, we&rsquo\;re bringing it back! grab your partner and join us for a sweat + flow class this september as we reset post-first day of school and head into fall. we&#39\;ll have drinks and light refreshments after class\, and yes\, we&rsquo\;re begging our neighbor to make those brownies again.
LOCATION:The Daily Sweat 65 Portland Rd\, Kennebunk
UID:e.1923.13417
SEQUENCE:3
DTSTAMP:20260424T153822Z
URL:https://chamber.gokennebunks.com/events/details/date-night-sweat-and-flow-13417
END:VEVENT

END:VCALENDAR
